BEGIN:VCALENDAR
VERSION:2.0
PRODID:-// - ECPv6.15.17.1//NONSGML v1.0//EN
CALSCALE:GREGORIAN
METHOD:PUBLISH
X-ORIGINAL-URL:https://notredamedelorette.info
X-WR-CALDESC:Events for 
REFRESH-INTERVAL;VALUE=DURATION:PT1H
X-Robots-Tag:noindex
X-PUBLISHED-TTL:PT1H
BEGIN:VTIMEZONE
TZID:America/New_York
BEGIN:DAYLIGHT
TZOFFSETFROM:-0500
TZOFFSETTO:-0400
TZNAME:EDT
DTSTART:20240310T070000
END:DAYLIGHT
BEGIN:STANDARD
TZOFFSETFROM:-0400
TZOFFSETTO:-0500
TZNAME:EST
DTSTART:20241103T060000
END:STANDARD
BEGIN:DAYLIGHT
TZOFFSETFROM:-0500
TZOFFSETTO:-0400
TZNAME:EDT
DTSTART:20250309T070000
END:DAYLIGHT
BEGIN:STANDARD
TZOFFSETFROM:-0400
TZOFFSETTO:-0500
TZNAME:EST
DTSTART:20251102T060000
END:STANDARD
BEGIN:DAYLIGHT
TZOFFSETFROM:-0500
TZOFFSETTO:-0400
TZNAME:EDT
DTSTART:20260308T070000
END:DAYLIGHT
BEGIN:STANDARD
TZOFFSETFROM:-0400
TZOFFSETTO:-0500
TZNAME:EST
DTSTART:20261101T060000
END:STANDARD
END:VTIMEZONE
BEGIN:VEVENT
DTSTART;TZID=America/New_York:20251214T091500
DTEND;TZID=America/New_York:20251214T101500
DTSTAMP:20260424T004942
CREATED:20251107T171453Z
LAST-MODIFIED:20251107T171955Z
UID:382243-1765703700-1765707300@notredamedelorette.info
SUMMARY:9:15am Sessions de Préparation de Réconciliation
DESCRIPTION:Au presbytère – At the rectory
URL:https://notredamedelorette.info/event/sessions-de-preparation-de-reconciliation-2/
LOCATION:Presbytère – Rectory\, 1282 Dawson Road\, Lorette\, Manitoba\, R5K 0T2\, Canada
CATEGORIES:Sacraments
END:VEVENT
BEGIN:VEVENT
DTSTART;TZID=America/New_York:20251207T094500
DTEND;TZID=America/New_York:20251207T104500
DTSTAMP:20260424T004942
CREATED:20251107T170626Z
LAST-MODIFIED:20251107T170626Z
UID:382256-1765100700-1765104300@notredamedelorette.info
SUMMARY:9:45am Sessions de Préparation de Réconciliation
DESCRIPTION:Sessions are held at the rectory ( the house next to the church) – Sessions au presbytère \nPréparation sacramentelle à la réconciliation– Les parents qui ont déjà demandé que leur enfant se prépare au sacrement de réconciliation devraient déjà avoir reçu un courriel. \nLes sessions pour enfants en français seront les dimanches au bureau de la paroisse de 9 h 45 à 10 h 45\, juste avant la messe française à 11h. Il y aura six sessions: les 9\, 16\, 23 et 30 nov. et 7 et 14 déc. Le 14 décembre\, on commencera à 9h15. Si l’enfant a été baptisé dans une autre paroisse\, il faudra une copie de son certificat de baptême. L’enfant doit suivre un programme de catéchèse\, soit à l’école\, la paroisse ou à la maison (pour ceux qui font l’école à domicile). Une célébration pénitentielle pour les enfants et leur famille est planifiée pour le 14 décembre\, en fin d’après-midi.  \nPour aider les parents à cheminer avec leur enfant dans la préparation à la réconciliation\, nous sommes heureux d’offrir des sessions de catéchèse pour parents au même temps\, même endroit. Au moins un des parents devrait être présent. Pour les parents qui ont déjà suivi une formation pour la réconciliation d’un autre enfant\, ils sont les bienvenus à participer encore s’ils le veulent. Pour la session de parents\, on présentera en anglais\, ensuite\, au besoin\, on se séparera en groupe de discussion soit en français\, soit en anglais. Donc tous les parents pourront y participer! \nPour plus d’info\, svp contacter le bureau paroissiale
URL:https://notredamedelorette.info/event/sessions-de-preparation-de-reconciliation/2025-12-07/
LOCATION:Presbytère – Rectory\, 1282 Dawson Road\, Lorette\, Manitoba\, R5K 0T2\, Canada
CATEGORIES:Sacraments
END:VEVENT
BEGIN:VEVENT
DTSTART;TZID=America/New_York:20251130T094500
DTEND;TZID=America/New_York:20251130T104500
DTSTAMP:20260424T004942
CREATED:20251107T170626Z
LAST-MODIFIED:20251107T170626Z
UID:382255-1764495900-1764499500@notredamedelorette.info
SUMMARY:9:45am Sessions de Préparation de Réconciliation
DESCRIPTION:Sessions are held at the rectory ( the house next to the church) – Sessions au presbytère \nPréparation sacramentelle à la réconciliation– Les parents qui ont déjà demandé que leur enfant se prépare au sacrement de réconciliation devraient déjà avoir reçu un courriel. \nLes sessions pour enfants en français seront les dimanches au bureau de la paroisse de 9 h 45 à 10 h 45\, juste avant la messe française à 11h. Il y aura six sessions: les 9\, 16\, 23 et 30 nov. et 7 et 14 déc. Le 14 décembre\, on commencera à 9h15. Si l’enfant a été baptisé dans une autre paroisse\, il faudra une copie de son certificat de baptême. L’enfant doit suivre un programme de catéchèse\, soit à l’école\, la paroisse ou à la maison (pour ceux qui font l’école à domicile). Une célébration pénitentielle pour les enfants et leur famille est planifiée pour le 14 décembre\, en fin d’après-midi.  \nPour aider les parents à cheminer avec leur enfant dans la préparation à la réconciliation\, nous sommes heureux d’offrir des sessions de catéchèse pour parents au même temps\, même endroit. Au moins un des parents devrait être présent. Pour les parents qui ont déjà suivi une formation pour la réconciliation d’un autre enfant\, ils sont les bienvenus à participer encore s’ils le veulent. Pour la session de parents\, on présentera en anglais\, ensuite\, au besoin\, on se séparera en groupe de discussion soit en français\, soit en anglais. Donc tous les parents pourront y participer! \nPour plus d’info\, svp contacter le bureau paroissiale
URL:https://notredamedelorette.info/event/sessions-de-preparation-de-reconciliation/2025-11-30/
LOCATION:Presbytère – Rectory\, 1282 Dawson Road\, Lorette\, Manitoba\, R5K 0T2\, Canada
CATEGORIES:Sacraments
END:VEVENT
BEGIN:VEVENT
DTSTART;TZID=America/New_York:20251123T094500
DTEND;TZID=America/New_York:20251123T104500
DTSTAMP:20260424T004942
CREATED:20251107T170626Z
LAST-MODIFIED:20251107T170626Z
UID:382254-1763891100-1763894700@notredamedelorette.info
SUMMARY:9:45am Sessions de Préparation de Réconciliation
DESCRIPTION:Sessions are held at the rectory ( the house next to the church) – Sessions au presbytère \nPréparation sacramentelle à la réconciliation– Les parents qui ont déjà demandé que leur enfant se prépare au sacrement de réconciliation devraient déjà avoir reçu un courriel. \nLes sessions pour enfants en français seront les dimanches au bureau de la paroisse de 9 h 45 à 10 h 45\, juste avant la messe française à 11h. Il y aura six sessions: les 9\, 16\, 23 et 30 nov. et 7 et 14 déc. Le 14 décembre\, on commencera à 9h15. Si l’enfant a été baptisé dans une autre paroisse\, il faudra une copie de son certificat de baptême. L’enfant doit suivre un programme de catéchèse\, soit à l’école\, la paroisse ou à la maison (pour ceux qui font l’école à domicile). Une célébration pénitentielle pour les enfants et leur famille est planifiée pour le 14 décembre\, en fin d’après-midi.  \nPour aider les parents à cheminer avec leur enfant dans la préparation à la réconciliation\, nous sommes heureux d’offrir des sessions de catéchèse pour parents au même temps\, même endroit. Au moins un des parents devrait être présent. Pour les parents qui ont déjà suivi une formation pour la réconciliation d’un autre enfant\, ils sont les bienvenus à participer encore s’ils le veulent. Pour la session de parents\, on présentera en anglais\, ensuite\, au besoin\, on se séparera en groupe de discussion soit en français\, soit en anglais. Donc tous les parents pourront y participer! \nPour plus d’info\, svp contacter le bureau paroissiale
URL:https://notredamedelorette.info/event/sessions-de-preparation-de-reconciliation/2025-11-23/
LOCATION:Presbytère – Rectory\, 1282 Dawson Road\, Lorette\, Manitoba\, R5K 0T2\, Canada
CATEGORIES:Sacraments
END:VEVENT
BEGIN:VEVENT
DTSTART;TZID=America/New_York:20251116T094500
DTEND;TZID=America/New_York:20251116T104500
DTSTAMP:20260424T004942
CREATED:20251107T170626Z
LAST-MODIFIED:20251107T170626Z
UID:382253-1763286300-1763289900@notredamedelorette.info
SUMMARY:9:45am Sessions de Préparation de Réconciliation
DESCRIPTION:Sessions are held at the rectory ( the house next to the church) – Sessions au presbytère \nPréparation sacramentelle à la réconciliation– Les parents qui ont déjà demandé que leur enfant se prépare au sacrement de réconciliation devraient déjà avoir reçu un courriel. \nLes sessions pour enfants en français seront les dimanches au bureau de la paroisse de 9 h 45 à 10 h 45\, juste avant la messe française à 11h. Il y aura six sessions: les 9\, 16\, 23 et 30 nov. et 7 et 14 déc. Le 14 décembre\, on commencera à 9h15. Si l’enfant a été baptisé dans une autre paroisse\, il faudra une copie de son certificat de baptême. L’enfant doit suivre un programme de catéchèse\, soit à l’école\, la paroisse ou à la maison (pour ceux qui font l’école à domicile). Une célébration pénitentielle pour les enfants et leur famille est planifiée pour le 14 décembre\, en fin d’après-midi.  \nPour aider les parents à cheminer avec leur enfant dans la préparation à la réconciliation\, nous sommes heureux d’offrir des sessions de catéchèse pour parents au même temps\, même endroit. Au moins un des parents devrait être présent. Pour les parents qui ont déjà suivi une formation pour la réconciliation d’un autre enfant\, ils sont les bienvenus à participer encore s’ils le veulent. Pour la session de parents\, on présentera en anglais\, ensuite\, au besoin\, on se séparera en groupe de discussion soit en français\, soit en anglais. Donc tous les parents pourront y participer! \nPour plus d’info\, svp contacter le bureau paroissiale
URL:https://notredamedelorette.info/event/sessions-de-preparation-de-reconciliation/2025-11-16/
LOCATION:Presbytère – Rectory\, 1282 Dawson Road\, Lorette\, Manitoba\, R5K 0T2\, Canada
CATEGORIES:Sacraments
END:VEVENT
BEGIN:VEVENT
DTSTART;TZID=America/New_York:20251109T094500
DTEND;TZID=America/New_York:20251109T104500
DTSTAMP:20260424T004942
CREATED:20251107T170626Z
LAST-MODIFIED:20251107T172326Z
UID:382236-1762681500-1762685100@notredamedelorette.info
SUMMARY:9:45am Sessions de Préparation de Réconciliation
DESCRIPTION:Sessions are held at the rectory ( the house next to the church) – Sessions au presbytère \nPréparation sacramentelle à la réconciliation– Les parents qui ont déjà demandé que leur enfant se prépare au sacrement de réconciliation devraient déjà avoir reçu un courriel. \nLes sessions pour enfants en français seront les dimanches au bureau de la paroisse de 9 h 45 à 10 h 45\, juste avant la messe française à 11h. Il y aura six sessions: les 9\, 16\, 23 et 30 nov. et 7 et 14 déc. Le 14 décembre\, on commencera à 9h15. Si l’enfant a été baptisé dans une autre paroisse\, il faudra une copie de son certificat de baptême. L’enfant doit suivre un programme de catéchèse\, soit à l’école\, la paroisse ou à la maison (pour ceux qui font l’école à domicile). Une célébration pénitentielle pour les enfants et leur famille est planifiée pour le 14 décembre\, en fin d’après-midi.  \nPour aider les parents à cheminer avec leur enfant dans la préparation à la réconciliation\, nous sommes heureux d’offrir des sessions de catéchèse pour parents au même temps\, même endroit. Au moins un des parents devrait être présent. Pour les parents qui ont déjà suivi une formation pour la réconciliation d’un autre enfant\, ils sont les bienvenus à participer encore s’ils le veulent. Pour la session de parents\, on présentera en anglais\, ensuite\, au besoin\, on se séparera en groupe de discussion soit en français\, soit en anglais. Donc tous les parents pourront y participer! \nPour plus d’info\, svp contacter le bureau paroissiale
URL:https://notredamedelorette.info/event/sessions-de-preparation-de-reconciliation/2025-11-09/
LOCATION:Presbytère – Rectory\, 1282 Dawson Road\, Lorette\, Manitoba\, R5K 0T2\, Canada
CATEGORIES:Sacraments
END:VEVENT
END:VCALENDAR