BEGIN:VCALENDAR
VERSION:2.0
PRODID:-// - ECPv6.15.17.1//NONSGML v1.0//EN
CALSCALE:GREGORIAN
METHOD:PUBLISH
X-ORIGINAL-URL:https://notredamedelorette.info
X-WR-CALDESC:Events for 
REFRESH-INTERVAL;VALUE=DURATION:PT1H
X-Robots-Tag:noindex
X-PUBLISHED-TTL:PT1H
BEGIN:VTIMEZONE
TZID:America/New_York
BEGIN:DAYLIGHT
TZOFFSETFROM:-0500
TZOFFSETTO:-0400
TZNAME:EDT
DTSTART:20240310T070000
END:DAYLIGHT
BEGIN:STANDARD
TZOFFSETFROM:-0400
TZOFFSETTO:-0500
TZNAME:EST
DTSTART:20241103T060000
END:STANDARD
BEGIN:DAYLIGHT
TZOFFSETFROM:-0500
TZOFFSETTO:-0400
TZNAME:EDT
DTSTART:20250309T070000
END:DAYLIGHT
BEGIN:STANDARD
TZOFFSETFROM:-0400
TZOFFSETTO:-0500
TZNAME:EST
DTSTART:20251102T060000
END:STANDARD
BEGIN:DAYLIGHT
TZOFFSETFROM:-0500
TZOFFSETTO:-0400
TZNAME:EDT
DTSTART:20260308T070000
END:DAYLIGHT
BEGIN:STANDARD
TZOFFSETFROM:-0400
TZOFFSETTO:-0500
TZNAME:EST
DTSTART:20261101T060000
END:STANDARD
END:VTIMEZONE
BEGIN:VEVENT
DTSTART;TZID=America/New_York:20251207T090000
DTEND;TZID=America/New_York:20251207T100000
DTSTAMP:20260424T213011
CREATED:20241214T211602Z
LAST-MODIFIED:20251107T172618Z
UID:380536-1765098000-1765101600@notredamedelorette.info
SUMMARY:English Mass 9am
DESCRIPTION:
URL:https://notredamedelorette.info/event/english-mass-9am-3/2025-12-07/
LOCATION:Église Notre-Dame-de-Lorette Church\, 1282 Dawson Road\, Lorette\, Manitoba\, R0A 0Y0\, Canada
CATEGORIES:Liturgy
END:VEVENT
BEGIN:VEVENT
DTSTART;TZID=America/New_York:20251206T170000
DTEND;TZID=America/New_York:20251206T180000
DTSTAMP:20260424T213011
CREATED:20241214T212135Z
LAST-MODIFIED:20250218T023327Z
UID:380660-1765040400-1765044000@notredamedelorette.info
SUMMARY:English Mass 5pm
DESCRIPTION:
URL:https://notredamedelorette.info/event/english-mass-5pm/2025-12-06/
LOCATION:Église Notre-Dame-de-Lorette Church\, 1282 Dawson Road\, Lorette\, Manitoba\, R0A 0Y0\, Canada
CATEGORIES:Liturgy
END:VEVENT
BEGIN:VEVENT
DTSTART;TZID=America/New_York:20251205T183000
DTEND;TZID=America/New_York:20251205T223000
DTSTAMP:20260424T213011
CREATED:20251107T173826Z
LAST-MODIFIED:20251115T205113Z
UID:382259-1764959400-1764973800@notredamedelorette.info
SUMMARY:Women's Advent Retreat 7pm
DESCRIPTION:Doors open 6:30pm \nWho: All women 18+ * Nursing babies welcome\nDate: Friday\, December 5\, 2025\nTime: 6:30pm – Doors Open\, Coffee and Tea available\n7pm-9:30pm – Retreat\n9:30pm-10:30pm – Optional Fellowship and Snack\nLocation: Notre Dame de Lorette Church\, Lorette\, MB\nCost: Freewill offering \nJoin other women seeking God’s heart this Advent season. Come for an evening of encounter through praise and worship\, adoration\, the sacrament of reconciliation\, prayer\, growth\, reflection\, heart-to-heart sharing\, laughter\, tears\, fellowship and food. Cathy Smook will once again be sharing her gift of teaching with us before we spend time with the Lord.\nRSVP Date: Please register by Tuesday\, December 2. This allows you to receive our reminder email with any final details. Of course\, we know that God sometimes opens the doors for ladies to attend at the last minute. Therefore\, if you did not register before Dec. 2\, you are still welcome! We always make extra copies of any handouts\, knowing God’s timing is not our own.\nHere is the link to register: https://forms.gle/NTAJm3F3hvDzqvgk7
URL:https://notredamedelorette.info/event/womens-advent-retreat-7pm/
LOCATION:Église Notre-Dame-de-Lorette Church\, 1282 Dawson Road\, Lorette\, Manitoba\, R0A 0Y0\, Canada
CATEGORIES:Holy Fire Family Ministry
END:VEVENT
BEGIN:VEVENT
DTSTART;TZID=America/New_York:20251205T100000
DTEND;TZID=America/New_York:20251205T103000
DTSTAMP:20260424T213011
CREATED:20250628T210312Z
LAST-MODIFIED:20260114T203348Z
UID:381907-1764928800-1764930600@notredamedelorette.info
SUMMARY:Mass 10am
DESCRIPTION:
URL:https://notredamedelorette.info/event/mass-10am-3/2025-12-05/
LOCATION:Église Notre-Dame-de-Lorette Church\, 1282 Dawson Road\, Lorette\, Manitoba\, R0A 0Y0\, Canada
CATEGORIES:Liturgy
END:VEVENT
BEGIN:VEVENT
DTSTART;TZID=America/New_York:20251205T090000
DTEND;TZID=America/New_York:20251205T100000
DTSTAMP:20260424T213011
CREATED:20251209T043210Z
LAST-MODIFIED:20260228T041516Z
UID:382404-1764925200-1764928800@notredamedelorette.info
SUMMARY:Adoration 9am-10am
DESCRIPTION:
URL:https://notredamedelorette.info/event/adoration-9am-10am/2025-12-05/
LOCATION:Église Notre-Dame-de-Lorette Church\, 1282 Dawson Road\, Lorette\, Manitoba\, R0A 0Y0\, Canada
CATEGORIES:Adoration
END:VEVENT
BEGIN:VEVENT
DTSTART;TZID=America/New_York:20251204T193000
DTEND;TZID=America/New_York:20251204T203000
DTSTAMP:20260424T213011
CREATED:20251125T012939Z
LAST-MODIFIED:20251125T012939Z
UID:382352-1764876600-1764880200@notredamedelorette.info
SUMMARY:Adoration & Confession 7:30pm-8:30pm
DESCRIPTION:
URL:https://notredamedelorette.info/event/adoration-confession-730pm-830pm/
LOCATION:Église Notre-Dame-de-Lorette Church\, 1282 Dawson Road\, Lorette\, Manitoba\, R0A 0Y0\, Canada
CATEGORIES:Adoration
END:VEVENT
BEGIN:VEVENT
DTSTART;TZID=America/New_York:20251204T190000
DTEND;TZID=America/New_York:20251204T193000
DTSTAMP:20260424T213011
CREATED:20251125T012854Z
LAST-MODIFIED:20251125T012854Z
UID:382350-1764874800-1764876600@notredamedelorette.info
SUMMARY:Healing Mass 7pm / Messe de Guérison 19h
DESCRIPTION:
URL:https://notredamedelorette.info/event/healing-mass-7pm-messe-de-guerison-19h/
LOCATION:Église Notre-Dame-de-Lorette Church\, 1282 Dawson Road\, Lorette\, Manitoba\, R0A 0Y0\, Canada
CATEGORIES:Liturgy
END:VEVENT
BEGIN:VEVENT
DTSTART;TZID=America/New_York:20251130T140000
DTEND;TZID=America/New_York:20251130T160000
DTSTAMP:20260424T213011
CREATED:20251003T185121Z
LAST-MODIFIED:20251003T185121Z
UID:382013-1764511200-1764518400@notredamedelorette.info
SUMMARY:2pm Practice for Christmas Concert/Spectacle de Noel
DESCRIPTION:
URL:https://notredamedelorette.info/event/2pm-practice-for-nativity-concert-spectacle-de-noel/2025-11-30/
LOCATION:Église Notre-Dame-de-Lorette Church\, 1282 Dawson Road\, Lorette\, Manitoba\, R0A 0Y0\, Canada
CATEGORIES:Celebrations 2025
END:VEVENT
BEGIN:VEVENT
DTSTART;TZID=America/New_York:20251130T110000
DTEND;TZID=America/New_York:20251130T120000
DTSTAMP:20260424T213011
CREATED:20241214T211859Z
LAST-MODIFIED:20251107T172957Z
UID:380178-1764500400-1764504000@notredamedelorette.info
SUMMARY:Messe en français 11h
DESCRIPTION:
URL:https://notredamedelorette.info/event/messe-en-francais-11h/2025-11-30/
LOCATION:Église Notre-Dame-de-Lorette Church\, 1282 Dawson Road\, Lorette\, Manitoba\, R0A 0Y0\, Canada
CATEGORIES:Liturgy
END:VEVENT
BEGIN:VEVENT
DTSTART;TZID=America/New_York:20251130T090000
DTEND;TZID=America/New_York:20251130T100000
DTSTAMP:20260424T213011
CREATED:20241214T211602Z
LAST-MODIFIED:20251107T172618Z
UID:380535-1764493200-1764496800@notredamedelorette.info
SUMMARY:English Mass 9am
DESCRIPTION:
URL:https://notredamedelorette.info/event/english-mass-9am-3/2025-11-30/
LOCATION:Église Notre-Dame-de-Lorette Church\, 1282 Dawson Road\, Lorette\, Manitoba\, R0A 0Y0\, Canada
CATEGORIES:Liturgy
END:VEVENT
BEGIN:VEVENT
DTSTART;TZID=America/New_York:20251129T170000
DTEND;TZID=America/New_York:20251129T180000
DTSTAMP:20260424T213011
CREATED:20241214T212135Z
LAST-MODIFIED:20250218T023327Z
UID:380659-1764435600-1764439200@notredamedelorette.info
SUMMARY:English Mass 5pm
DESCRIPTION:
URL:https://notredamedelorette.info/event/english-mass-5pm/2025-11-29/
LOCATION:Église Notre-Dame-de-Lorette Church\, 1282 Dawson Road\, Lorette\, Manitoba\, R0A 0Y0\, Canada
CATEGORIES:Liturgy
END:VEVENT
BEGIN:VEVENT
DTSTART;TZID=America/New_York:20251128T100000
DTEND;TZID=America/New_York:20251128T103000
DTSTAMP:20260424T213011
CREATED:20250628T210312Z
LAST-MODIFIED:20260114T203348Z
UID:381906-1764324000-1764325800@notredamedelorette.info
SUMMARY:Mass 10am
DESCRIPTION:
URL:https://notredamedelorette.info/event/mass-10am-3/2025-11-28/
LOCATION:Église Notre-Dame-de-Lorette Church\, 1282 Dawson Road\, Lorette\, Manitoba\, R0A 0Y0\, Canada
CATEGORIES:Liturgy
END:VEVENT
BEGIN:VEVENT
DTSTART;TZID=America/New_York:20251127T090000
DTEND;TZID=America/New_York:20251127T093000
DTSTAMP:20260424T213011
CREATED:20250628T170411Z
LAST-MODIFIED:20251115T202002Z
UID:381943-1764234000-1764235800@notredamedelorette.info
SUMMARY:Messe 9h
DESCRIPTION:
URL:https://notredamedelorette.info/event/messe-9h-2/2025-11-27/
LOCATION:Église Notre-Dame-de-Lorette Church\, 1282 Dawson Road\, Lorette\, Manitoba\, R0A 0Y0\, Canada
CATEGORIES:Liturgy
END:VEVENT
BEGIN:VEVENT
DTSTART;TZID=America/New_York:20251123T140000
DTEND;TZID=America/New_York:20251123T160000
DTSTAMP:20260424T213011
CREATED:20251003T185121Z
LAST-MODIFIED:20251003T185121Z
UID:382012-1763906400-1763913600@notredamedelorette.info
SUMMARY:2pm Practice for Christmas Concert/Spectacle de Noel
DESCRIPTION:
URL:https://notredamedelorette.info/event/2pm-practice-for-nativity-concert-spectacle-de-noel/2025-11-23/
LOCATION:Église Notre-Dame-de-Lorette Church\, 1282 Dawson Road\, Lorette\, Manitoba\, R0A 0Y0\, Canada
CATEGORIES:Celebrations 2025
END:VEVENT
BEGIN:VEVENT
DTSTART;TZID=America/New_York:20251123T110000
DTEND;TZID=America/New_York:20251123T120000
DTSTAMP:20260424T213011
CREATED:20241214T211859Z
LAST-MODIFIED:20251107T172957Z
UID:380177-1763895600-1763899200@notredamedelorette.info
SUMMARY:Messe en français 11h
DESCRIPTION:
URL:https://notredamedelorette.info/event/messe-en-francais-11h/2025-11-23/
LOCATION:Église Notre-Dame-de-Lorette Church\, 1282 Dawson Road\, Lorette\, Manitoba\, R0A 0Y0\, Canada
CATEGORIES:Liturgy
END:VEVENT
BEGIN:VEVENT
DTSTART;TZID=America/New_York:20251123T090000
DTEND;TZID=America/New_York:20251123T100000
DTSTAMP:20260424T213011
CREATED:20241214T211602Z
LAST-MODIFIED:20251107T172618Z
UID:380534-1763888400-1763892000@notredamedelorette.info
SUMMARY:English Mass 9am
DESCRIPTION:
URL:https://notredamedelorette.info/event/english-mass-9am-3/2025-11-23/
LOCATION:Église Notre-Dame-de-Lorette Church\, 1282 Dawson Road\, Lorette\, Manitoba\, R0A 0Y0\, Canada
CATEGORIES:Liturgy
END:VEVENT
BEGIN:VEVENT
DTSTART;TZID=America/New_York:20251122T170000
DTEND;TZID=America/New_York:20251122T180000
DTSTAMP:20260424T213011
CREATED:20241214T212135Z
LAST-MODIFIED:20250218T023327Z
UID:380658-1763830800-1763834400@notredamedelorette.info
SUMMARY:English Mass 5pm
DESCRIPTION:
URL:https://notredamedelorette.info/event/english-mass-5pm/2025-11-22/
LOCATION:Église Notre-Dame-de-Lorette Church\, 1282 Dawson Road\, Lorette\, Manitoba\, R0A 0Y0\, Canada
CATEGORIES:Liturgy
END:VEVENT
BEGIN:VEVENT
DTSTART;TZID=America/New_York:20251121T100000
DTEND;TZID=America/New_York:20251121T103000
DTSTAMP:20260424T213011
CREATED:20250628T210312Z
LAST-MODIFIED:20260114T203348Z
UID:381905-1763719200-1763721000@notredamedelorette.info
SUMMARY:Mass 10am
DESCRIPTION:
URL:https://notredamedelorette.info/event/mass-10am-3/2025-11-21/
LOCATION:Église Notre-Dame-de-Lorette Church\, 1282 Dawson Road\, Lorette\, Manitoba\, R0A 0Y0\, Canada
CATEGORIES:Liturgy
END:VEVENT
BEGIN:VEVENT
DTSTART;TZID=America/New_York:20251120T183000
DTEND;TZID=America/New_York:20251120T190000
DTSTAMP:20260424T213011
CREATED:20251020T210816Z
LAST-MODIFIED:20251020T210816Z
UID:382294-1763663400-1763665200@notredamedelorette.info
SUMMARY:Messe 18h30
DESCRIPTION:
URL:https://notredamedelorette.info/event/messe-18h30-4/2025-11-20/
LOCATION:Église Notre-Dame-de-Lorette Church\, 1282 Dawson Road\, Lorette\, Manitoba\, R0A 0Y0\, Canada
CATEGORIES:Liturgy
END:VEVENT
BEGIN:VEVENT
DTSTART;TZID=America/New_York:20251119T183000
DTEND;TZID=America/New_York:20251119T190000
DTSTAMP:20260424T213011
CREATED:20251007T151539Z
LAST-MODIFIED:20260410T201143Z
UID:382060-1763577000-1763578800@notredamedelorette.info
SUMMARY:Mass 6:30pm
DESCRIPTION:
URL:https://notredamedelorette.info/event/mass-630pm-6/2025-11-19/
LOCATION:Église Notre-Dame-de-Lorette Church\, 1282 Dawson Road\, Lorette\, Manitoba\, R0A 0Y0\, Canada
CATEGORIES:Liturgy
END:VEVENT
BEGIN:VEVENT
DTSTART;TZID=America/New_York:20251116T140000
DTEND;TZID=America/New_York:20251116T160000
DTSTAMP:20260424T213011
CREATED:20251003T185121Z
LAST-MODIFIED:20251003T185121Z
UID:382011-1763301600-1763308800@notredamedelorette.info
SUMMARY:2pm Practice for Christmas Concert/Spectacle de Noel
DESCRIPTION:
URL:https://notredamedelorette.info/event/2pm-practice-for-nativity-concert-spectacle-de-noel/2025-11-16/
LOCATION:Église Notre-Dame-de-Lorette Church\, 1282 Dawson Road\, Lorette\, Manitoba\, R0A 0Y0\, Canada
CATEGORIES:Celebrations 2025
END:VEVENT
BEGIN:VEVENT
DTSTART;TZID=America/New_York:20251116T110000
DTEND;TZID=America/New_York:20251116T120000
DTSTAMP:20260424T213011
CREATED:20241214T211859Z
LAST-MODIFIED:20251107T172956Z
UID:380176-1763290800-1763294400@notredamedelorette.info
SUMMARY:Messe en français 11h
DESCRIPTION:
URL:https://notredamedelorette.info/event/messe-en-francais-11h/2025-11-16/
LOCATION:Église Notre-Dame-de-Lorette Church\, 1282 Dawson Road\, Lorette\, Manitoba\, R0A 0Y0\, Canada
CATEGORIES:Liturgy
END:VEVENT
BEGIN:VEVENT
DTSTART;TZID=America/New_York:20251116T090000
DTEND;TZID=America/New_York:20251116T100000
DTSTAMP:20260424T213011
CREATED:20241214T211602Z
LAST-MODIFIED:20251107T172618Z
UID:380533-1763283600-1763287200@notredamedelorette.info
SUMMARY:English Mass 9am
DESCRIPTION:
URL:https://notredamedelorette.info/event/english-mass-9am-3/2025-11-16/
LOCATION:Église Notre-Dame-de-Lorette Church\, 1282 Dawson Road\, Lorette\, Manitoba\, R0A 0Y0\, Canada
CATEGORIES:Liturgy
END:VEVENT
BEGIN:VEVENT
DTSTART;TZID=America/New_York:20251115T170000
DTEND;TZID=America/New_York:20251115T180000
DTSTAMP:20260424T213011
CREATED:20241214T212135Z
LAST-MODIFIED:20250218T023327Z
UID:380657-1763226000-1763229600@notredamedelorette.info
SUMMARY:English Mass 5pm
DESCRIPTION:
URL:https://notredamedelorette.info/event/english-mass-5pm/2025-11-15/
LOCATION:Église Notre-Dame-de-Lorette Church\, 1282 Dawson Road\, Lorette\, Manitoba\, R0A 0Y0\, Canada
CATEGORIES:Liturgy
END:VEVENT
BEGIN:VEVENT
DTSTART;TZID=America/New_York:20251112T183000
DTEND;TZID=America/New_York:20251112T190000
DTSTAMP:20260424T213011
CREATED:20251007T151539Z
LAST-MODIFIED:20251007T151539Z
UID:383281-1762972200-1762974000@notredamedelorette.info
SUMMARY:Mass 6:30pm
DESCRIPTION:
URL:https://notredamedelorette.info/event/mass-630pm-6/2025-11-12/
LOCATION:Église Notre-Dame-de-Lorette Church\, 1282 Dawson Road\, Lorette\, Manitoba\, R0A 0Y0\, Canada
CATEGORIES:Liturgy
END:VEVENT
BEGIN:VEVENT
DTSTART;TZID=America/New_York:20251109T140000
DTEND;TZID=America/New_York:20251109T160000
DTSTAMP:20260424T213011
CREATED:20251003T185121Z
LAST-MODIFIED:20251003T192624Z
UID:382000-1762696800-1762704000@notredamedelorette.info
SUMMARY:2pm Practice for Christmas Concert/Spectacle de Noel
DESCRIPTION:
URL:https://notredamedelorette.info/event/2pm-practice-for-nativity-concert-spectacle-de-noel/2025-11-09/
LOCATION:Église Notre-Dame-de-Lorette Church\, 1282 Dawson Road\, Lorette\, Manitoba\, R0A 0Y0\, Canada
CATEGORIES:Celebrations 2025
END:VEVENT
BEGIN:VEVENT
DTSTART;TZID=America/New_York:20251109T110000
DTEND;TZID=America/New_York:20251109T120000
DTSTAMP:20260424T213011
CREATED:20241214T211859Z
LAST-MODIFIED:20251107T172952Z
UID:380175-1762686000-1762689600@notredamedelorette.info
SUMMARY:Messe en français 11h
DESCRIPTION:
URL:https://notredamedelorette.info/event/messe-en-francais-11h/2025-11-09/
LOCATION:Église Notre-Dame-de-Lorette Church\, 1282 Dawson Road\, Lorette\, Manitoba\, R0A 0Y0\, Canada
CATEGORIES:Liturgy
END:VEVENT
BEGIN:VEVENT
DTSTART;TZID=America/New_York:20251109T090000
DTEND;TZID=America/New_York:20251109T100000
DTSTAMP:20260424T213011
CREATED:20241214T211602Z
LAST-MODIFIED:20251107T172613Z
UID:380532-1762678800-1762682400@notredamedelorette.info
SUMMARY:English Mass 9am
DESCRIPTION:
URL:https://notredamedelorette.info/event/english-mass-9am-3/2025-11-09/
LOCATION:Église Notre-Dame-de-Lorette Church\, 1282 Dawson Road\, Lorette\, Manitoba\, R0A 0Y0\, Canada
CATEGORIES:Liturgy
END:VEVENT
BEGIN:VEVENT
DTSTART;TZID=America/New_York:20251108T170000
DTEND;TZID=America/New_York:20251108T180000
DTSTAMP:20260424T213011
CREATED:20241214T212135Z
LAST-MODIFIED:20250218T023327Z
UID:380656-1762621200-1762624800@notredamedelorette.info
SUMMARY:English Mass 5pm
DESCRIPTION:
URL:https://notredamedelorette.info/event/english-mass-5pm/2025-11-08/
LOCATION:Église Notre-Dame-de-Lorette Church\, 1282 Dawson Road\, Lorette\, Manitoba\, R0A 0Y0\, Canada
CATEGORIES:Liturgy
END:VEVENT
BEGIN:VEVENT
DTSTART;TZID=America/New_York:20251107T100000
DTEND;TZID=America/New_York:20251107T103000
DTSTAMP:20260424T213011
CREATED:20250628T210312Z
LAST-MODIFIED:20260114T203348Z
UID:381903-1762509600-1762511400@notredamedelorette.info
SUMMARY:Mass 10am
DESCRIPTION:
URL:https://notredamedelorette.info/event/mass-10am-3/2025-11-07/
LOCATION:Église Notre-Dame-de-Lorette Church\, 1282 Dawson Road\, Lorette\, Manitoba\, R0A 0Y0\, Canada
CATEGORIES:Liturgy
END:VEVENT
END:VCALENDAR