BEGIN:VCALENDAR
VERSION:2.0
PRODID:-// - ECPv6.15.17.1//NONSGML v1.0//EN
CALSCALE:GREGORIAN
METHOD:PUBLISH
X-ORIGINAL-URL:https://notredamedelorette.info
X-WR-CALDESC:Events for 
REFRESH-INTERVAL;VALUE=DURATION:PT1H
X-Robots-Tag:noindex
X-PUBLISHED-TTL:PT1H
BEGIN:VTIMEZONE
TZID:America/New_York
BEGIN:DAYLIGHT
TZOFFSETFROM:-0500
TZOFFSETTO:-0400
TZNAME:EDT
DTSTART:20250309T070000
END:DAYLIGHT
BEGIN:STANDARD
TZOFFSETFROM:-0400
TZOFFSETTO:-0500
TZNAME:EST
DTSTART:20251102T060000
END:STANDARD
BEGIN:DAYLIGHT
TZOFFSETFROM:-0500
TZOFFSETTO:-0400
TZNAME:EDT
DTSTART:20260308T070000
END:DAYLIGHT
BEGIN:STANDARD
TZOFFSETFROM:-0400
TZOFFSETTO:-0500
TZNAME:EST
DTSTART:20261101T060000
END:STANDARD
BEGIN:DAYLIGHT
TZOFFSETFROM:-0500
TZOFFSETTO:-0400
TZNAME:EDT
DTSTART:20270314T070000
END:DAYLIGHT
BEGIN:STANDARD
TZOFFSETFROM:-0400
TZOFFSETTO:-0500
TZNAME:EST
DTSTART:20271107T060000
END:STANDARD
END:VTIMEZONE
BEGIN:VEVENT
DTSTART;TZID=America/New_York:20260423T093000
DTEND;TZID=America/New_York:20260423T103000
DTSTAMP:20260423T144219
CREATED:20260328T181041Z
LAST-MODIFIED:20260328T181041Z
UID:383232-1776936600-1776940200@notredamedelorette.info
SUMMARY:Adoration & Confession 9h30-10h30
DESCRIPTION:
URL:https://notredamedelorette.info/event/adoration-confession-9h30-10h30/2026-04-23/
LOCATION:Église Notre-Dame-de-Lorette Church\, 1282 Dawson Road\, Lorette\, Manitoba\, R0A 0Y0\, Canada
CATEGORIES:Adoration
END:VEVENT
BEGIN:VEVENT
DTSTART;TZID=America/New_York:20260423T090000
DTEND;TZID=America/New_York:20260423T093000
DTSTAMP:20260423T144219
CREATED:20260114T202737Z
LAST-MODIFIED:20260131T193442Z
UID:382833-1776934800-1776936600@notredamedelorette.info
SUMMARY:Messe 9h
DESCRIPTION:
URL:https://notredamedelorette.info/event/messe-9h-3/2026-04-23/
LOCATION:Église Notre-Dame-de-Lorette Church\, 1282 Dawson Road\, Lorette\, Manitoba\, R0A 0Y0\, Canada
CATEGORIES:Liturgy
END:VEVENT
BEGIN:VEVENT
DTSTART;TZID=America/New_York:20260422T083000
DTEND;TZID=America/New_York:20260422T090000
DTSTAMP:20260423T144219
CREATED:20260410T202152Z
LAST-MODIFIED:20260410T202152Z
UID:383289-1776846600-1776848400@notredamedelorette.info
SUMMARY:Mass 8:30am
DESCRIPTION:
URL:https://notredamedelorette.info/event/mass-830am-7/
LOCATION:Église Notre-Dame-de-Lorette Church\, 1282 Dawson Road\, Lorette\, Manitoba\, R0A 0Y0\, Canada
CATEGORIES:Liturgy
END:VEVENT
BEGIN:VEVENT
DTSTART;TZID=America/New_York:20260421T183000
DTEND;TZID=America/New_York:20260421T190000
DTSTAMP:20260423T144219
CREATED:20260114T200031Z
LAST-MODIFIED:20260228T041033Z
UID:382730-1776796200-1776798000@notredamedelorette.info
SUMMARY:Messe 18h30
DESCRIPTION:
URL:https://notredamedelorette.info/event/messe-18h30-5/2026-04-21/
LOCATION:Église Notre-Dame-de-Lorette Church\, 1282 Dawson Road\, Lorette\, Manitoba\, R0A 0Y0\, Canada
CATEGORIES:Liturgy
END:VEVENT
BEGIN:VEVENT
DTSTART;TZID=America/New_York:20260419T110000
DTEND;TZID=America/New_York:20260419T120000
DTSTAMP:20260423T144219
CREATED:20251220T210141Z
LAST-MODIFIED:20260319T183952Z
UID:382592-1776596400-1776600000@notredamedelorette.info
SUMMARY:Messe en français 11h
DESCRIPTION:
URL:https://notredamedelorette.info/event/messe-en-francais-11h-2/2026-04-19/
LOCATION:Église Notre-Dame-de-Lorette Church\, 1282 Dawson Road\, Lorette\, Manitoba\, R0A 0Y0\, Canada
CATEGORIES:Liturgy
END:VEVENT
BEGIN:VEVENT
DTSTART;TZID=America/New_York:20260419T090000
DTEND;TZID=America/New_York:20260419T100000
DTSTAMP:20260423T144219
CREATED:20251220T205833Z
LAST-MODIFIED:20251220T205833Z
UID:382538-1776589200-1776592800@notredamedelorette.info
SUMMARY:English Mass 9am
DESCRIPTION:
URL:https://notredamedelorette.info/event/english-mass-9am/2026-04-19/
LOCATION:Église Notre-Dame-de-Lorette Church\, 1282 Dawson Road\, Lorette\, Manitoba\, R0A 0Y0\, Canada
CATEGORIES:Liturgy
END:VEVENT
BEGIN:VEVENT
DTSTART;TZID=America/New_York:20260418T170000
DTEND;TZID=America/New_York:20260418T180000
DTSTAMP:20260423T144219
CREATED:20251220T205029Z
LAST-MODIFIED:20251220T205029Z
UID:382642-1776531600-1776535200@notredamedelorette.info
SUMMARY:English Mass 5pm
DESCRIPTION:
URL:https://notredamedelorette.info/event/english-mass-5pm-2/2026-04-18/
LOCATION:Église Notre-Dame-de-Lorette Church\, 1282 Dawson Road\, Lorette\, Manitoba\, R0A 0Y0\, Canada
CATEGORIES:Liturgy
END:VEVENT
BEGIN:VEVENT
DTSTART;TZID=America/New_York:20260417T150000
DTEND;TZID=America/New_York:20260417T160000
DTSTAMP:20260423T144219
CREATED:20260316T194238Z
LAST-MODIFIED:20260316T194440Z
UID:383067-1776438000-1776441600@notredamedelorette.info
SUMMARY:Adoration 3pm - with some worship music
DESCRIPTION:
URL:https://notredamedelorette.info/event/adoration-with-some-worship-music/2026-04-17/
LOCATION:Église Notre-Dame-de-Lorette Church\, 1282 Dawson Road\, Lorette\, Manitoba\, R0A 0Y0\, Canada
CATEGORIES:Adoration
END:VEVENT
BEGIN:VEVENT
DTSTART;TZID=America/New_York:20260417T083000
DTEND;TZID=America/New_York:20260417T090000
DTSTAMP:20260423T144219
CREATED:20260316T193914Z
LAST-MODIFIED:20260410T201857Z
UID:383094-1776414600-1776416400@notredamedelorette.info
SUMMARY:Mass 8:30am
DESCRIPTION:
URL:https://notredamedelorette.info/event/mass-10am-6-2026-04-17/
LOCATION:Église Notre-Dame-de-Lorette Church\, 1282 Dawson Road\, Lorette\, Manitoba\, R0A 0Y0\, Canada
CATEGORIES:Liturgy
END:VEVENT
BEGIN:VEVENT
DTSTART;TZID=America/New_York:20260417T080000
DTEND;TZID=America/New_York:20260417T083000
DTSTAMP:20260423T144219
CREATED:20251209T043210Z
LAST-MODIFIED:20260410T202054Z
UID:382798-1776412800-1776414600@notredamedelorette.info
SUMMARY:Adoration & Confession 8am-8:30am
DESCRIPTION:
URL:https://notredamedelorette.info/event/adoration-9am-10am-2026-04-17/
LOCATION:Église Notre-Dame-de-Lorette Church\, 1282 Dawson Road\, Lorette\, Manitoba\, R0A 0Y0\, Canada
CATEGORIES:Adoration
END:VEVENT
BEGIN:VEVENT
DTSTART;TZID=America/New_York:20260416T093000
DTEND;TZID=America/New_York:20260416T103000
DTSTAMP:20260423T144219
CREATED:20260328T181041Z
LAST-MODIFIED:20260328T181041Z
UID:383231-1776331800-1776335400@notredamedelorette.info
SUMMARY:Adoration & Confession 9h30-10h30
DESCRIPTION:
URL:https://notredamedelorette.info/event/adoration-confession-9h30-10h30/2026-04-16/
LOCATION:Église Notre-Dame-de-Lorette Church\, 1282 Dawson Road\, Lorette\, Manitoba\, R0A 0Y0\, Canada
CATEGORIES:Adoration
END:VEVENT
BEGIN:VEVENT
DTSTART;TZID=America/New_York:20260416T090000
DTEND;TZID=America/New_York:20260416T093000
DTSTAMP:20260423T144219
CREATED:20260114T202737Z
LAST-MODIFIED:20260131T193442Z
UID:382832-1776330000-1776331800@notredamedelorette.info
SUMMARY:Messe 9h
DESCRIPTION:
URL:https://notredamedelorette.info/event/messe-9h-3/2026-04-16/
LOCATION:Église Notre-Dame-de-Lorette Church\, 1282 Dawson Road\, Lorette\, Manitoba\, R0A 0Y0\, Canada
CATEGORIES:Liturgy
END:VEVENT
BEGIN:VEVENT
DTSTART;TZID=America/New_York:20260415T181500
DTEND;TZID=America/New_York:20260415T184500
DTSTAMP:20260423T144219
CREATED:20260410T201353Z
LAST-MODIFIED:20260410T201353Z
UID:383284-1776276900-1776278700@notredamedelorette.info
SUMMARY:Mass 6:15pm
DESCRIPTION:
URL:https://notredamedelorette.info/event/mass-615pm-2/
LOCATION:Église Notre-Dame-de-Lorette Church\, 1282 Dawson Road\, Lorette\, Manitoba\, R0A 0Y0\, Canada
CATEGORIES:Liturgy
END:VEVENT
BEGIN:VEVENT
DTSTART;TZID=America/New_York:20260414T183000
DTEND;TZID=America/New_York:20260414T190000
DTSTAMP:20260423T144219
CREATED:20260114T200031Z
LAST-MODIFIED:20260228T041033Z
UID:382729-1776191400-1776193200@notredamedelorette.info
SUMMARY:Messe 18h30
DESCRIPTION:
URL:https://notredamedelorette.info/event/messe-18h30-5/2026-04-14/
LOCATION:Église Notre-Dame-de-Lorette Church\, 1282 Dawson Road\, Lorette\, Manitoba\, R0A 0Y0\, Canada
CATEGORIES:Liturgy
END:VEVENT
BEGIN:VEVENT
DTSTART;TZID=America/New_York:20260412T110000
DTEND;TZID=America/New_York:20260412T120000
DTSTAMP:20260423T144219
CREATED:20251220T210141Z
LAST-MODIFIED:20260319T183952Z
UID:382591-1775991600-1775995200@notredamedelorette.info
SUMMARY:Messe en français 11h
DESCRIPTION:
URL:https://notredamedelorette.info/event/messe-en-francais-11h-2/2026-04-12/
LOCATION:Église Notre-Dame-de-Lorette Church\, 1282 Dawson Road\, Lorette\, Manitoba\, R0A 0Y0\, Canada
CATEGORIES:Liturgy
END:VEVENT
BEGIN:VEVENT
DTSTART;TZID=America/New_York:20260412T090000
DTEND;TZID=America/New_York:20260412T100000
DTSTAMP:20260423T144219
CREATED:20251220T205833Z
LAST-MODIFIED:20251220T205833Z
UID:382537-1775984400-1775988000@notredamedelorette.info
SUMMARY:English Mass 9am
DESCRIPTION:
URL:https://notredamedelorette.info/event/english-mass-9am/2026-04-12/
LOCATION:Église Notre-Dame-de-Lorette Church\, 1282 Dawson Road\, Lorette\, Manitoba\, R0A 0Y0\, Canada
CATEGORIES:Liturgy
END:VEVENT
BEGIN:VEVENT
DTSTART;TZID=America/New_York:20260411T170000
DTEND;TZID=America/New_York:20260411T180000
DTSTAMP:20260423T144219
CREATED:20251220T205029Z
LAST-MODIFIED:20251220T205029Z
UID:382641-1775926800-1775930400@notredamedelorette.info
SUMMARY:English Mass 5pm
DESCRIPTION:
URL:https://notredamedelorette.info/event/english-mass-5pm-2/2026-04-11/
LOCATION:Église Notre-Dame-de-Lorette Church\, 1282 Dawson Road\, Lorette\, Manitoba\, R0A 0Y0\, Canada
CATEGORIES:Liturgy
END:VEVENT
BEGIN:VEVENT
DTSTART;TZID=America/New_York:20260410T150000
DTEND;TZID=America/New_York:20260410T160000
DTSTAMP:20260423T144219
CREATED:20260316T194238Z
LAST-MODIFIED:20260316T194440Z
UID:383066-1775833200-1775836800@notredamedelorette.info
SUMMARY:Adoration 3pm - with some worship music
DESCRIPTION:
URL:https://notredamedelorette.info/event/adoration-with-some-worship-music/2026-04-10/
LOCATION:Église Notre-Dame-de-Lorette Church\, 1282 Dawson Road\, Lorette\, Manitoba\, R0A 0Y0\, Canada
CATEGORIES:Adoration
END:VEVENT
BEGIN:VEVENT
DTSTART;TZID=America/New_York:20260410T100000
DTEND;TZID=America/New_York:20260410T103000
DTSTAMP:20260423T144219
CREATED:20260316T193914Z
LAST-MODIFIED:20260316T194823Z
UID:383093-1775815200-1775817000@notredamedelorette.info
SUMMARY:Mass 10am
DESCRIPTION:
URL:https://notredamedelorette.info/event/mass-10am-6/2026-04-10/
LOCATION:Église Notre-Dame-de-Lorette Church\, 1282 Dawson Road\, Lorette\, Manitoba\, R0A 0Y0\, Canada
CATEGORIES:Liturgy
END:VEVENT
BEGIN:VEVENT
DTSTART;TZID=America/New_York:20260410T090000
DTEND;TZID=America/New_York:20260410T100000
DTSTAMP:20260423T144219
CREATED:20251209T043210Z
LAST-MODIFIED:20260228T041523Z
UID:382797-1775811600-1775815200@notredamedelorette.info
SUMMARY:Adoration 9am-10am
DESCRIPTION:
URL:https://notredamedelorette.info/event/adoration-9am-10am/2026-04-10/
LOCATION:Église Notre-Dame-de-Lorette Church\, 1282 Dawson Road\, Lorette\, Manitoba\, R0A 0Y0\, Canada
CATEGORIES:Adoration
END:VEVENT
BEGIN:VEVENT
DTSTART;TZID=America/New_York:20260409T090000
DTEND;TZID=America/New_York:20260409T093000
DTSTAMP:20260423T144219
CREATED:20260114T202737Z
LAST-MODIFIED:20260131T193442Z
UID:382831-1775725200-1775727000@notredamedelorette.info
SUMMARY:Messe 9h
DESCRIPTION:
URL:https://notredamedelorette.info/event/messe-9h-3/2026-04-09/
LOCATION:Église Notre-Dame-de-Lorette Church\, 1282 Dawson Road\, Lorette\, Manitoba\, R0A 0Y0\, Canada
CATEGORIES:Liturgy
END:VEVENT
BEGIN:VEVENT
DTSTART;TZID=America/New_York:20260409T093000
DTEND;TZID=America/New_York:20260409T103000
DTSTAMP:20260423T144219
CREATED:20260328T181041Z
LAST-MODIFIED:20260328T181111Z
UID:383229-1775727000-1775730600@notredamedelorette.info
SUMMARY:Adoration & Confession 9h30-10h30
DESCRIPTION:
URL:https://notredamedelorette.info/event/adoration-confession-9h30-10h30/2026-04-09/
LOCATION:Église Notre-Dame-de-Lorette Church\, 1282 Dawson Road\, Lorette\, Manitoba\, R0A 0Y0\, Canada
CATEGORIES:Adoration
END:VEVENT
BEGIN:VEVENT
DTSTART;TZID=America/New_York:20260408T183000
DTEND;TZID=America/New_York:20260408T190000
DTSTAMP:20260423T144219
CREATED:20251007T151539Z
LAST-MODIFIED:20260410T201238Z
UID:382069-1775673000-1775674800@notredamedelorette.info
SUMMARY:Mass 6:30pm
DESCRIPTION:
URL:https://notredamedelorette.info/event/mass-630pm-6/2026-04-08/
LOCATION:Église Notre-Dame-de-Lorette Church\, 1282 Dawson Road\, Lorette\, Manitoba\, R0A 0Y0\, Canada
CATEGORIES:Liturgy
END:VEVENT
BEGIN:VEVENT
DTSTART;TZID=America/New_York:20260407T183000
DTEND;TZID=America/New_York:20260407T190000
DTSTAMP:20260423T144219
CREATED:20260114T200031Z
LAST-MODIFIED:20260228T041033Z
UID:382728-1775586600-1775588400@notredamedelorette.info
SUMMARY:Messe 18h30
DESCRIPTION:
URL:https://notredamedelorette.info/event/messe-18h30-5/2026-04-07/
LOCATION:Église Notre-Dame-de-Lorette Church\, 1282 Dawson Road\, Lorette\, Manitoba\, R0A 0Y0\, Canada
CATEGORIES:Liturgy
END:VEVENT
BEGIN:VEVENT
DTSTART;TZID=America/New_York:20260405T110000
DTEND;TZID=America/New_York:20260405T120000
DTSTAMP:20260423T144219
CREATED:20251220T210141Z
LAST-MODIFIED:20260319T183952Z
UID:382590-1775386800-1775390400@notredamedelorette.info
SUMMARY:Messe en français 11h
DESCRIPTION:
URL:https://notredamedelorette.info/event/messe-en-francais-11h-2/2026-04-05/
LOCATION:Église Notre-Dame-de-Lorette Church\, 1282 Dawson Road\, Lorette\, Manitoba\, R0A 0Y0\, Canada
CATEGORIES:Liturgy
END:VEVENT
BEGIN:VEVENT
DTSTART;TZID=America/New_York:20260405T090000
DTEND;TZID=America/New_York:20260405T100000
DTSTAMP:20260423T144219
CREATED:20251220T205833Z
LAST-MODIFIED:20251220T205833Z
UID:382536-1775379600-1775383200@notredamedelorette.info
SUMMARY:English Mass 9am
DESCRIPTION:
URL:https://notredamedelorette.info/event/english-mass-9am/2026-04-05/
LOCATION:Église Notre-Dame-de-Lorette Church\, 1282 Dawson Road\, Lorette\, Manitoba\, R0A 0Y0\, Canada
CATEGORIES:Liturgy
END:VEVENT
BEGIN:VEVENT
DTSTART;TZID=America/New_York:20260404T203000
DTEND;TZID=America/New_York:20260404T230000
DTSTAMP:20260423T144219
CREATED:20230328T164212Z
LAST-MODIFIED:20260328T183404Z
UID:267751-1775334600-1775343600@notredamedelorette.info
SUMMARY:Easter Vigil Bilingual Mass 8:30pm  / Vigile Pascale Messe Bilingue 20h30
DESCRIPTION:
URL:https://notredamedelorette.info/event/vigile-pascale-messe-bilingue-20h30-easter-vigil-bilingual-mass-830pm-2/
LOCATION:Église Notre-Dame-de-Lorette Church\, 1282 Dawson Road\, Lorette\, Manitoba\, R0A 0Y0\, Canada
CATEGORIES:Liturgy
END:VEVENT
BEGIN:VEVENT
DTSTART;TZID=America/New_York:20260403T190000
DTEND;TZID=America/New_York:20260403T200000
DTSTAMP:20260423T144219
CREATED:20230328T163810Z
LAST-MODIFIED:20260328T183301Z
UID:267748-1775242800-1775246400@notredamedelorette.info
SUMMARY:Stations of the Cross 7pm - Bilingual
DESCRIPTION:
URL:https://notredamedelorette.info/event/way-of-the-cross-7pm/
LOCATION:Église Notre-Dame-de-Lorette Church\, 1282 Dawson Road\, Lorette\, Manitoba\, R0A 0Y0\, Canada
CATEGORIES:Parish Event
END:VEVENT
BEGIN:VEVENT
DTSTART;TZID=America/New_York:20260403T150000
DTEND;TZID=America/New_York:20260403T160000
DTSTAMP:20260423T144219
CREATED:20230328T163350Z
LAST-MODIFIED:20260328T183043Z
UID:267746-1775228400-1775232000@notredamedelorette.info
SUMMARY:Service du Vendredi Saint 15h
DESCRIPTION:
URL:https://notredamedelorette.info/event/service-du-vendredi-saint-15h/
LOCATION:Église Notre-Dame-de-Lorette Church\, 1282 Dawson Road\, Lorette\, Manitoba\, R0A 0Y0\, Canada
CATEGORIES:Liturgy
END:VEVENT
BEGIN:VEVENT
DTSTART;TZID=America/New_York:20260403T130000
DTEND;TZID=America/New_York:20260403T140000
DTSTAMP:20260423T144219
CREATED:20230328T163252Z
LAST-MODIFIED:20260328T182943Z
UID:267744-1775221200-1775224800@notredamedelorette.info
SUMMARY:Good Friday Service 1pm
DESCRIPTION:
URL:https://notredamedelorette.info/event/good-friday-service-1pm-2/
LOCATION:Église Notre-Dame-de-Lorette Church\, 1282 Dawson Road\, Lorette\, Manitoba\, R0A 0Y0\, Canada
CATEGORIES:Liturgy
END:VEVENT
END:VCALENDAR