BEGIN:VCALENDAR
VERSION:2.0
PRODID:-// - ECPv6.15.17.1//NONSGML v1.0//EN
CALSCALE:GREGORIAN
METHOD:PUBLISH
X-ORIGINAL-URL:https://notredamedelorette.info
X-WR-CALDESC:Events for 
REFRESH-INTERVAL;VALUE=DURATION:PT1H
X-Robots-Tag:noindex
X-PUBLISHED-TTL:PT1H
BEGIN:VTIMEZONE
TZID:America/New_York
BEGIN:DAYLIGHT
TZOFFSETFROM:-0500
TZOFFSETTO:-0400
TZNAME:EDT
DTSTART:20250309T070000
END:DAYLIGHT
BEGIN:STANDARD
TZOFFSETFROM:-0400
TZOFFSETTO:-0500
TZNAME:EST
DTSTART:20251102T060000
END:STANDARD
BEGIN:DAYLIGHT
TZOFFSETFROM:-0500
TZOFFSETTO:-0400
TZNAME:EDT
DTSTART:20260308T070000
END:DAYLIGHT
BEGIN:STANDARD
TZOFFSETFROM:-0400
TZOFFSETTO:-0500
TZNAME:EST
DTSTART:20261101T060000
END:STANDARD
BEGIN:DAYLIGHT
TZOFFSETFROM:-0500
TZOFFSETTO:-0400
TZNAME:EDT
DTSTART:20270314T070000
END:DAYLIGHT
BEGIN:STANDARD
TZOFFSETFROM:-0400
TZOFFSETTO:-0500
TZNAME:EST
DTSTART:20271107T060000
END:STANDARD
END:VTIMEZONE
BEGIN:VEVENT
DTSTART;TZID=America/New_York:20260424T190000
DTEND;TZID=America/New_York:20260424T213000
DTSTAMP:20260422T214722
CREATED:20240914T210304Z
LAST-MODIFIED:20250915T194233Z
UID:381775-1777057200-1777066200@notredamedelorette.info
SUMMARY:Gr7-Gr12 Youth Night 7pm-930pm
DESCRIPTION:At the Parish Hall \nWHO WE ARE | MISSION STATEMENT:\nOur goal is to help youth to befriend Christ and understand the teachings of the Catholic Church. We strive to build friendships and community by learning together and having fun. \nFor Youth Grades 7 to 12 \nBelow is a link to register your child for youth group:\nhttps://forms.gle/GPBbJLw37StMuwkU7
URL:https://notredamedelorette.info/event/youth-night-7pm-930pm/2026-04-24/
LOCATION:Salle Notre-Dame-de-Lorette Hall\, 1282 Dawson Road\, Lorette\, Manitoba\, R0A 0Y0\, Canada
CATEGORIES:Youth Ministry
END:VEVENT
BEGIN:VEVENT
DTSTART;TZID=America/New_York:20260508T190000
DTEND;TZID=America/New_York:20260508T213000
DTSTAMP:20260422T214722
CREATED:20240914T210304Z
LAST-MODIFIED:20250915T194233Z
UID:381776-1778266800-1778275800@notredamedelorette.info
SUMMARY:Gr7-Gr12 Youth Night 7pm-930pm
DESCRIPTION:At the Parish Hall \nWHO WE ARE | MISSION STATEMENT:\nOur goal is to help youth to befriend Christ and understand the teachings of the Catholic Church. We strive to build friendships and community by learning together and having fun. \nFor Youth Grades 7 to 12 \nBelow is a link to register your child for youth group:\nhttps://forms.gle/GPBbJLw37StMuwkU7
URL:https://notredamedelorette.info/event/youth-night-7pm-930pm/2026-05-08/
LOCATION:Salle Notre-Dame-de-Lorette Hall\, 1282 Dawson Road\, Lorette\, Manitoba\, R0A 0Y0\, Canada
CATEGORIES:Youth Ministry
END:VEVENT
BEGIN:VEVENT
DTSTART;TZID=America/New_York:20260522T190000
DTEND;TZID=America/New_York:20260522T213000
DTSTAMP:20260422T214722
CREATED:20240914T210304Z
LAST-MODIFIED:20250915T194233Z
UID:381777-1779476400-1779485400@notredamedelorette.info
SUMMARY:Gr7-Gr12 Youth Night 7pm-930pm
DESCRIPTION:At the Parish Hall \nWHO WE ARE | MISSION STATEMENT:\nOur goal is to help youth to befriend Christ and understand the teachings of the Catholic Church. We strive to build friendships and community by learning together and having fun. \nFor Youth Grades 7 to 12 \nBelow is a link to register your child for youth group:\nhttps://forms.gle/GPBbJLw37StMuwkU7
URL:https://notredamedelorette.info/event/youth-night-7pm-930pm/2026-05-22/
LOCATION:Salle Notre-Dame-de-Lorette Hall\, 1282 Dawson Road\, Lorette\, Manitoba\, R0A 0Y0\, Canada
CATEGORIES:Youth Ministry
END:VEVENT
BEGIN:VEVENT
DTSTART;TZID=America/New_York:20260531T100000
DTEND;TZID=America/New_York:20260531T130000
DTSTAMP:20260422T214722
CREATED:20250118T205246Z
LAST-MODIFIED:20251220T211309Z
UID:382580-1780221600-1780232400@notredamedelorette.info
SUMMARY:Déjeuner Communion | Communion Breakfast
DESCRIPTION:Communion Breakfast\, sponsored by the Knights of Columbus at the Parish Hall after both masses. The meal is free. Money raised for a good cause to be determined (see parish bulletin) ——————\nDéjeuner Communion\, commandité par les Chevaliers de Colomb à la salle paroissiale après chacune des deux messes. Le repas est gratuit. Dons prélevé pour une bonne cause (voir bulletin).
URL:https://notredamedelorette.info/event/dejeuner-communion-communion-breakfast-3/2026-05-31/
LOCATION:Salle Notre-Dame-de-Lorette Hall\, 1282 Dawson Road\, Lorette\, Manitoba\, R0A 0Y0\, Canada
CATEGORIES:Parish Event
END:VEVENT
END:VCALENDAR