BEGIN:VCALENDAR
VERSION:2.0
PRODID:-// - ECPv6.15.17.1//NONSGML v1.0//EN
CALSCALE:GREGORIAN
METHOD:PUBLISH
X-ORIGINAL-URL:https://notredamedelorette.info
X-WR-CALDESC:Events for 
REFRESH-INTERVAL;VALUE=DURATION:PT1H
X-Robots-Tag:noindex
X-PUBLISHED-TTL:PT1H
BEGIN:VTIMEZONE
TZID:America/New_York
BEGIN:DAYLIGHT
TZOFFSETFROM:-0500
TZOFFSETTO:-0400
TZNAME:EDT
DTSTART:20230312T070000
END:DAYLIGHT
BEGIN:STANDARD
TZOFFSETFROM:-0400
TZOFFSETTO:-0500
TZNAME:EST
DTSTART:20231105T060000
END:STANDARD
BEGIN:DAYLIGHT
TZOFFSETFROM:-0500
TZOFFSETTO:-0400
TZNAME:EDT
DTSTART:20240310T070000
END:DAYLIGHT
BEGIN:STANDARD
TZOFFSETFROM:-0400
TZOFFSETTO:-0500
TZNAME:EST
DTSTART:20241103T060000
END:STANDARD
BEGIN:DAYLIGHT
TZOFFSETFROM:-0500
TZOFFSETTO:-0400
TZNAME:EDT
DTSTART:20250309T070000
END:DAYLIGHT
BEGIN:STANDARD
TZOFFSETFROM:-0400
TZOFFSETTO:-0500
TZNAME:EST
DTSTART:20251102T060000
END:STANDARD
BEGIN:DAYLIGHT
TZOFFSETFROM:-0500
TZOFFSETTO:-0400
TZNAME:EDT
DTSTART:20260308T070000
END:DAYLIGHT
BEGIN:STANDARD
TZOFFSETFROM:-0400
TZOFFSETTO:-0500
TZNAME:EST
DTSTART:20261101T060000
END:STANDARD
BEGIN:DAYLIGHT
TZOFFSETFROM:-0500
TZOFFSETTO:-0400
TZNAME:EDT
DTSTART:20270314T070000
END:DAYLIGHT
BEGIN:STANDARD
TZOFFSETFROM:-0400
TZOFFSETTO:-0500
TZNAME:EST
DTSTART:20271107T060000
END:STANDARD
END:VTIMEZONE
BEGIN:VEVENT
DTSTART;TZID=America/New_York:20260419T100000
DTEND;TZID=America/New_York:20260419T130000
DTSTAMP:20260423T205757
CREATED:20250118T205246Z
LAST-MODIFIED:20260410T200750Z
UID:382579-1776592800-1776603600@notredamedelorette.info
SUMMARY:Déjeuner Communion | Communion Breakfast
DESCRIPTION:Communion Breakfast\, sponsored by the Knights of Columbus at the Parish Hall after both masses. The meal is free. Money raised for a good cause to be determined (see parish bulletin) ——————\nDéjeuner Communion\, commandité par les Chevaliers de Colomb à la salle paroissiale après chacune des deux messes. Le repas est gratuit. Dons prélevé pour une bonne cause (voir bulletin).
URL:https://notredamedelorette.info/event/dejeuner-communion-communion-breakfast-3-2026-04-26/
LOCATION:Salle Notre-Dame-de-Lorette Hall\, 1282 Dawson Road\, Lorette\, Manitoba\, R0A 0Y0\, Canada
CATEGORIES:Parish Event
END:VEVENT
BEGIN:VEVENT
DTSTART;TZID=America/New_York:20260410T190000
DTEND;TZID=America/New_York:20260410T213000
DTSTAMP:20260423T205757
CREATED:20240914T210304Z
LAST-MODIFIED:20250915T194233Z
UID:381774-1775847600-1775856600@notredamedelorette.info
SUMMARY:Gr7-Gr12 Youth Night 7pm-930pm
DESCRIPTION:At the Parish Hall \nWHO WE ARE | MISSION STATEMENT:\nOur goal is to help youth to befriend Christ and understand the teachings of the Catholic Church. We strive to build friendships and community by learning together and having fun. \nFor Youth Grades 7 to 12 \nBelow is a link to register your child for youth group:\nhttps://forms.gle/GPBbJLw37StMuwkU7
URL:https://notredamedelorette.info/event/youth-night-7pm-930pm/2026-04-10/
LOCATION:Salle Notre-Dame-de-Lorette Hall\, 1282 Dawson Road\, Lorette\, Manitoba\, R0A 0Y0\, Canada
CATEGORIES:Youth Ministry
END:VEVENT
BEGIN:VEVENT
DTSTART;TZID=America/New_York:20260327T190000
DTEND;TZID=America/New_York:20260327T213000
DTSTAMP:20260423T205757
CREATED:20240914T210304Z
LAST-MODIFIED:20250915T194233Z
UID:381773-1774638000-1774647000@notredamedelorette.info
SUMMARY:Gr7-Gr12 Youth Night 7pm-930pm
DESCRIPTION:At the Parish Hall \nWHO WE ARE | MISSION STATEMENT:\nOur goal is to help youth to befriend Christ and understand the teachings of the Catholic Church. We strive to build friendships and community by learning together and having fun. \nFor Youth Grades 7 to 12 \nBelow is a link to register your child for youth group:\nhttps://forms.gle/GPBbJLw37StMuwkU7
URL:https://notredamedelorette.info/event/youth-night-7pm-930pm/2026-03-27/
LOCATION:Salle Notre-Dame-de-Lorette Hall\, 1282 Dawson Road\, Lorette\, Manitoba\, R0A 0Y0\, Canada
CATEGORIES:Youth Ministry
END:VEVENT
BEGIN:VEVENT
DTSTART;TZID=America/New_York:20260322T140000
DTEND;TZID=America/New_York:20260322T190000
DTSTAMP:20260423T205757
CREATED:20220528T163210Z
LAST-MODIFIED:20260319T184712Z
UID:189909-1774188000-1774206000@notredamedelorette.info
SUMMARY:ALL WELCOME! Old Time Family Dance! 2pm
DESCRIPTION:Le dimanche 22 mars à la salle paroissiale / Sunday March 22 at the Parish Hall  \n14 h – 17 h/ 2-5pm- Danses de groupe traditionnelles pour toute la famille / Old-time group dances the whole family can enjoy \nLes familles de notre paroisse et des paroisses environ-nantes sont les bienvenues. \nFamilies from our parish and surrounding parishes are warmly welcome. \nDon suggéré / Suggested donation : 5 $ par famille / $5 per family \nSVP apportez une collation pour votre famille pendant la pause de danse (au besoin) et un plat pour le repas-partage suffisant pour votre famille. \nPlease bring a snack for your family during the dance break (if needed) and a potluck dish to share that provides enough food for your family. \nConfirmer votre présence / RSVP : https://forms.gle/dh9WvxiAdDZeQFDA \n  \n 
URL:https://notredamedelorette.info/event/all-welcome-danse-familiale-dantan-parish-old-time-family-dance/
LOCATION:Salle Notre-Dame-de-Lorette Hall\, 1282 Dawson Road\, Lorette\, Manitoba\, R0A 0Y0\, Canada
CATEGORIES:Holy Fire Family Ministry,Parish Event
END:VEVENT
BEGIN:VEVENT
DTSTART;TZID=America/New_York:20260322T100000
DTEND;TZID=America/New_York:20260322T130000
DTSTAMP:20260423T205757
CREATED:20250118T205246Z
LAST-MODIFIED:20250118T205246Z
UID:382587-1774173600-1774184400@notredamedelorette.info
SUMMARY:Déjeuner Communion | Communion Breakfast
DESCRIPTION:Communion Breakfast\, sponsored by the Knights of Columbus at the Parish Hall after both masses. The meal is free. Money raised for a good cause to be determined (see parish bulletin) ——————\nDéjeuner Communion\, commandité par les Chevaliers de Colomb à la salle paroissiale après chacune des deux messes. Le repas est gratuit. Dons prélevé pour une bonne cause (voir bulletin).
URL:https://notredamedelorette.info/event/dejeuner-communion-communion-breakfast-3/2026-03-22/
LOCATION:Salle Notre-Dame-de-Lorette Hall\, 1282 Dawson Road\, Lorette\, Manitoba\, R0A 0Y0\, Canada
CATEGORIES:Parish Event
END:VEVENT
BEGIN:VEVENT
DTSTART;TZID=America/New_York:20260313T190000
DTEND;TZID=America/New_York:20260313T213000
DTSTAMP:20260423T205757
CREATED:20240914T210304Z
LAST-MODIFIED:20250915T194228Z
UID:381772-1773428400-1773437400@notredamedelorette.info
SUMMARY:Gr7-Gr12 Youth Night 7pm-930pm
DESCRIPTION:At the Parish Hall \nWHO WE ARE | MISSION STATEMENT:\nOur goal is to help youth to befriend Christ and understand the teachings of the Catholic Church. We strive to build friendships and community by learning together and having fun. \nFor Youth Grades 7 to 12 \nBelow is a link to register your child for youth group:\nhttps://forms.gle/GPBbJLw37StMuwkU7
URL:https://notredamedelorette.info/event/youth-night-7pm-930pm/2026-03-13/
LOCATION:Salle Notre-Dame-de-Lorette Hall\, 1282 Dawson Road\, Lorette\, Manitoba\, R0A 0Y0\, Canada
CATEGORIES:Youth Ministry
END:VEVENT
BEGIN:VEVENT
DTSTART;TZID=America/New_York:20260227T190000
DTEND;TZID=America/New_York:20260227T213000
DTSTAMP:20260423T205757
CREATED:20240914T210304Z
LAST-MODIFIED:20250915T194228Z
UID:381771-1772218800-1772227800@notredamedelorette.info
SUMMARY:Gr7-Gr12 Youth Night 7pm-930pm
DESCRIPTION:At the Parish Hall \nWHO WE ARE | MISSION STATEMENT:\nOur goal is to help youth to befriend Christ and understand the teachings of the Catholic Church. We strive to build friendships and community by learning together and having fun. \nFor Youth Grades 7 to 12 \nBelow is a link to register your child for youth group:\nhttps://forms.gle/GPBbJLw37StMuwkU7
URL:https://notredamedelorette.info/event/youth-night-7pm-930pm/2026-02-27/
LOCATION:Salle Notre-Dame-de-Lorette Hall\, 1282 Dawson Road\, Lorette\, Manitoba\, R0A 0Y0\, Canada
CATEGORIES:Youth Ministry
END:VEVENT
BEGIN:VEVENT
DTSTART;TZID=America/New_York:20260222T100000
DTEND;TZID=America/New_York:20260222T130000
DTSTAMP:20260423T205757
CREATED:20250118T205246Z
LAST-MODIFIED:20251220T211309Z
UID:382577-1771754400-1771765200@notredamedelorette.info
SUMMARY:Déjeuner Communion | Communion Breakfast
DESCRIPTION:Communion Breakfast\, sponsored by the Knights of Columbus at the Parish Hall after both masses. The meal is free. Money raised for a good cause to be determined (see parish bulletin) ——————\nDéjeuner Communion\, commandité par les Chevaliers de Colomb à la salle paroissiale après chacune des deux messes. Le repas est gratuit. Dons prélevé pour une bonne cause (voir bulletin).
URL:https://notredamedelorette.info/event/dejeuner-communion-communion-breakfast-3/2026-02-22/
LOCATION:Salle Notre-Dame-de-Lorette Hall\, 1282 Dawson Road\, Lorette\, Manitoba\, R0A 0Y0\, Canada
CATEGORIES:Parish Event
END:VEVENT
BEGIN:VEVENT
DTSTART;TZID=America/New_York:20260213T190000
DTEND;TZID=America/New_York:20260213T213000
DTSTAMP:20260423T205757
CREATED:20240914T210304Z
LAST-MODIFIED:20250915T194228Z
UID:381770-1771009200-1771018200@notredamedelorette.info
SUMMARY:Gr7-Gr12 Youth Night 7pm-930pm
DESCRIPTION:At the Parish Hall \nWHO WE ARE | MISSION STATEMENT:\nOur goal is to help youth to befriend Christ and understand the teachings of the Catholic Church. We strive to build friendships and community by learning together and having fun. \nFor Youth Grades 7 to 12 \nBelow is a link to register your child for youth group:\nhttps://forms.gle/GPBbJLw37StMuwkU7
URL:https://notredamedelorette.info/event/youth-night-7pm-930pm/2026-02-13/
LOCATION:Salle Notre-Dame-de-Lorette Hall\, 1282 Dawson Road\, Lorette\, Manitoba\, R0A 0Y0\, Canada
CATEGORIES:Youth Ministry
END:VEVENT
BEGIN:VEVENT
DTSTART;TZID=America/New_York:20260125T100000
DTEND;TZID=America/New_York:20260125T130000
DTSTAMP:20260423T205757
CREATED:20250118T205246Z
LAST-MODIFIED:20251220T211308Z
UID:382576-1769335200-1769346000@notredamedelorette.info
SUMMARY:Déjeuner Communion | Communion Breakfast
DESCRIPTION:Communion Breakfast\, sponsored by the Knights of Columbus at the Parish Hall after both masses. The meal is free. Money raised for a good cause to be determined (see parish bulletin) ——————\nDéjeuner Communion\, commandité par les Chevaliers de Colomb à la salle paroissiale après chacune des deux messes. Le repas est gratuit. Dons prélevé pour une bonne cause (voir bulletin).
URL:https://notredamedelorette.info/event/dejeuner-communion-communion-breakfast-3/2026-01-25/
LOCATION:Salle Notre-Dame-de-Lorette Hall\, 1282 Dawson Road\, Lorette\, Manitoba\, R0A 0Y0\, Canada
CATEGORIES:Parish Event
END:VEVENT
BEGIN:VEVENT
DTSTART;TZID=America/New_York:20260123T190000
DTEND;TZID=America/New_York:20260123T213000
DTSTAMP:20260423T205757
CREATED:20240914T210304Z
LAST-MODIFIED:20250915T194228Z
UID:381769-1769194800-1769203800@notredamedelorette.info
SUMMARY:Gr7-Gr12 Youth Night 7pm-930pm
DESCRIPTION:At the Parish Hall \nWHO WE ARE | MISSION STATEMENT:\nOur goal is to help youth to befriend Christ and understand the teachings of the Catholic Church. We strive to build friendships and community by learning together and having fun. \nFor Youth Grades 7 to 12 \nBelow is a link to register your child for youth group:\nhttps://forms.gle/GPBbJLw37StMuwkU7
URL:https://notredamedelorette.info/event/youth-night-7pm-930pm/2026-01-23/
LOCATION:Salle Notre-Dame-de-Lorette Hall\, 1282 Dawson Road\, Lorette\, Manitoba\, R0A 0Y0\, Canada
CATEGORIES:Youth Ministry
END:VEVENT
BEGIN:VEVENT
DTSTART;TZID=America/New_York:20260109T190000
DTEND;TZID=America/New_York:20260109T213000
DTSTAMP:20260423T205757
CREATED:20240914T210304Z
LAST-MODIFIED:20250915T194228Z
UID:381768-1767985200-1767994200@notredamedelorette.info
SUMMARY:Gr7-Gr12 Youth Night 7pm-930pm
DESCRIPTION:At the Parish Hall \nWHO WE ARE | MISSION STATEMENT:\nOur goal is to help youth to befriend Christ and understand the teachings of the Catholic Church. We strive to build friendships and community by learning together and having fun. \nFor Youth Grades 7 to 12 \nBelow is a link to register your child for youth group:\nhttps://forms.gle/GPBbJLw37StMuwkU7
URL:https://notredamedelorette.info/event/youth-night-7pm-930pm/2026-01-09/
LOCATION:Salle Notre-Dame-de-Lorette Hall\, 1282 Dawson Road\, Lorette\, Manitoba\, R0A 0Y0\, Canada
CATEGORIES:Youth Ministry
END:VEVENT
BEGIN:VEVENT
DTSTART;TZID=America/New_York:20251212T190000
DTEND;TZID=America/New_York:20251212T213000
DTSTAMP:20260423T205757
CREATED:20240914T210304Z
LAST-MODIFIED:20250915T194228Z
UID:381766-1765566000-1765575000@notredamedelorette.info
SUMMARY:Gr7-Gr12 Youth Night 7pm-930pm
DESCRIPTION:At the Parish Hall \nWHO WE ARE | MISSION STATEMENT:\nOur goal is to help youth to befriend Christ and understand the teachings of the Catholic Church. We strive to build friendships and community by learning together and having fun. \nFor Youth Grades 7 to 12 \nBelow is a link to register your child for youth group:\nhttps://forms.gle/GPBbJLw37StMuwkU7
URL:https://notredamedelorette.info/event/youth-night-7pm-930pm/2025-12-12/
LOCATION:Salle Notre-Dame-de-Lorette Hall\, 1282 Dawson Road\, Lorette\, Manitoba\, R0A 0Y0\, Canada
CATEGORIES:Youth Ministry
END:VEVENT
BEGIN:VEVENT
DTSTART;TZID=America/New_York:20251130T100000
DTEND;TZID=America/New_York:20251130T130000
DTSTAMP:20260423T205757
CREATED:20250118T205246Z
LAST-MODIFIED:20251220T211308Z
UID:381738-1764496800-1764507600@notredamedelorette.info
SUMMARY:Déjeuner Communion | Communion Breakfast
DESCRIPTION:Communion Breakfast\, sponsored by the Knights of Columbus at the Parish Hall after both masses. The meal is free. Money raised for a good cause to be determined (see parish bulletin) ——————\nDéjeuner Communion\, commandité par les Chevaliers de Colomb à la salle paroissiale après chacune des deux messes. Le repas est gratuit. Dons prélevé pour une bonne cause (voir bulletin).
URL:https://notredamedelorette.info/event/dejeuner-communion-communion-breakfast-3/2025-11-30/
LOCATION:Salle Notre-Dame-de-Lorette Hall\, 1282 Dawson Road\, Lorette\, Manitoba\, R0A 0Y0\, Canada
CATEGORIES:Parish Event
END:VEVENT
BEGIN:VEVENT
DTSTART;TZID=America/New_York:20251128T190000
DTEND;TZID=America/New_York:20251128T213000
DTSTAMP:20260423T205757
CREATED:20240914T210304Z
LAST-MODIFIED:20250915T194227Z
UID:381765-1764356400-1764365400@notredamedelorette.info
SUMMARY:Gr7-Gr12 Youth Night 7pm-930pm
DESCRIPTION:At the Parish Hall \nWHO WE ARE | MISSION STATEMENT:\nOur goal is to help youth to befriend Christ and understand the teachings of the Catholic Church. We strive to build friendships and community by learning together and having fun. \nFor Youth Grades 7 to 12 \nBelow is a link to register your child for youth group:\nhttps://forms.gle/GPBbJLw37StMuwkU7
URL:https://notredamedelorette.info/event/youth-night-7pm-930pm/2025-11-28/
LOCATION:Salle Notre-Dame-de-Lorette Hall\, 1282 Dawson Road\, Lorette\, Manitoba\, R0A 0Y0\, Canada
CATEGORIES:Youth Ministry
END:VEVENT
BEGIN:VEVENT
DTSTART;TZID=America/New_York:20251114T190000
DTEND;TZID=America/New_York:20251114T213000
DTSTAMP:20260423T205757
CREATED:20240914T210304Z
LAST-MODIFIED:20250915T194227Z
UID:381764-1763146800-1763155800@notredamedelorette.info
SUMMARY:Gr7-Gr12 Youth Night 7pm-930pm
DESCRIPTION:At the Parish Hall \nWHO WE ARE | MISSION STATEMENT:\nOur goal is to help youth to befriend Christ and understand the teachings of the Catholic Church. We strive to build friendships and community by learning together and having fun. \nFor Youth Grades 7 to 12 \nBelow is a link to register your child for youth group:\nhttps://forms.gle/GPBbJLw37StMuwkU7
URL:https://notredamedelorette.info/event/youth-night-7pm-930pm/2025-11-14/
LOCATION:Salle Notre-Dame-de-Lorette Hall\, 1282 Dawson Road\, Lorette\, Manitoba\, R0A 0Y0\, Canada
CATEGORIES:Youth Ministry
END:VEVENT
BEGIN:VEVENT
DTSTART;TZID=America/New_York:20251026T100000
DTEND;TZID=America/New_York:20251026T130000
DTSTAMP:20260423T205757
CREATED:20250118T205246Z
LAST-MODIFIED:20251220T211308Z
UID:381737-1761472800-1761483600@notredamedelorette.info
SUMMARY:Déjeuner Communion | Communion Breakfast
DESCRIPTION:Communion Breakfast\, sponsored by the Knights of Columbus at the Parish Hall after both masses. The meal is free. Money raised for a good cause to be determined (see parish bulletin) ——————\nDéjeuner Communion\, commandité par les Chevaliers de Colomb à la salle paroissiale après chacune des deux messes. Le repas est gratuit. Dons prélevé pour une bonne cause (voir bulletin).
URL:https://notredamedelorette.info/event/dejeuner-communion-communion-breakfast-3/2025-10-26/
LOCATION:Salle Notre-Dame-de-Lorette Hall\, 1282 Dawson Road\, Lorette\, Manitoba\, R0A 0Y0\, Canada
CATEGORIES:Parish Event
END:VEVENT
BEGIN:VEVENT
DTSTART;TZID=America/New_York:20251024T190000
DTEND;TZID=America/New_York:20251024T213000
DTSTAMP:20260423T205757
CREATED:20240914T210304Z
LAST-MODIFIED:20250915T194227Z
UID:381763-1761332400-1761341400@notredamedelorette.info
SUMMARY:Gr7-Gr12 Youth Night 7pm-930pm
DESCRIPTION:At the Parish Hall \nWHO WE ARE | MISSION STATEMENT:\nOur goal is to help youth to befriend Christ and understand the teachings of the Catholic Church. We strive to build friendships and community by learning together and having fun. \nFor Youth Grades 7 to 12 \nBelow is a link to register your child for youth group:\nhttps://forms.gle/GPBbJLw37StMuwkU7
URL:https://notredamedelorette.info/event/youth-night-7pm-930pm/2025-10-24/
LOCATION:Salle Notre-Dame-de-Lorette Hall\, 1282 Dawson Road\, Lorette\, Manitoba\, R0A 0Y0\, Canada
CATEGORIES:Youth Ministry
END:VEVENT
BEGIN:VEVENT
DTSTART;TZID=America/New_York:20251010T190000
DTEND;TZID=America/New_York:20251010T213000
DTSTAMP:20260423T205757
CREATED:20240914T210304Z
LAST-MODIFIED:20250915T194227Z
UID:379210-1760122800-1760131800@notredamedelorette.info
SUMMARY:Gr7-Gr12 Youth Night 7pm-930pm
DESCRIPTION:At the Parish Hall \nWHO WE ARE | MISSION STATEMENT:\nOur goal is to help youth to befriend Christ and understand the teachings of the Catholic Church. We strive to build friendships and community by learning together and having fun. \nFor Youth Grades 7 to 12 \nBelow is a link to register your child for youth group:\nhttps://forms.gle/GPBbJLw37StMuwkU7
URL:https://notredamedelorette.info/event/youth-night-7pm-930pm/2025-10-10/
LOCATION:Salle Notre-Dame-de-Lorette Hall\, 1282 Dawson Road\, Lorette\, Manitoba\, R0A 0Y0\, Canada
CATEGORIES:Youth Ministry
END:VEVENT
BEGIN:VEVENT
DTSTART;TZID=America/New_York:20251005T100000
DTEND;TZID=America/New_York:20251005T105500
DTSTAMP:20260423T205757
CREATED:20250919T202810Z
LAST-MODIFIED:20251003T190908Z
UID:381837-1759658400-1759661700@notredamedelorette.info
SUMMARY:10am Meeting for Christmas Concert/Concert de Noel
DESCRIPTION:Year-End Anniversary Celebration – Christmas Bilingual Nativity Concert  \nParents\, grandparents\, children\, and youth – actors\, musicians\, singers\, set and sound helpers – there is room for everyone to be part of our Year-End Anniversary Celebration! \nWe are excited to announce that our parish will be hosting a Christmas Bilingual Nativity Concert on Saturday\, December 13. All children and youth ages 5 to 19 are invited to take part in this special celebration. \nThe first meeting for all interested children and their parents will be held on Sunday\, October 5\, from 10:00–10:55 a.m at the PARISH HALL\, between the English and French Masses. This time will allow English families to attend after Mass and French families to come before Mass. \nEvery child and youth is welcome\, whether you attend English Mass\, French Mass\, Sunday School\, or Home School. This is a wonderful opportunity for children to share their talents with the parish\, their families\, and the community. Let us come together as a parish family to celebrate Christmas and our year-end anniversary. Bring your children\, grandchildren\, nieces\, and nephews – and join us for this joyful parish celebration! \nFaith Suttorp & Suzanne Desmarais  \n—————————- \nCélébration de fin d’année – Concert de Noël bilingue de la Nativité  \nParents\, grands-parents\, enfants et jeunes – acteurs\, musiciens\, chanteurs\, aide à la scène et au son – il y a de la place pour tout le monde pour participer à notre célébration de fin d’année! \nNous sommes heureux d’annoncer que notre paroisse présentera un Concert de Noël bilingue de la Nativité le samedi 13 décembre. Tous les enfants et les jeunes de 5 à 19 ans sont invités à prendre part à cette célébration spéciale. \nLa première rencontre pour tous les enfants intéressés et leurs parents aura lieu le dimanche 5 octobre\, de 10 h 00 à 10 h 55 à la SALLE PAROISSIALE\, entre la messe en anglais et la messe en français. Ce moment permettra aux familles anglophones d’y participer après la messe et aux familles francophones d’y assister avant la messe. Tous les enfants et les jeunes sont les bienvenus\, que vous assistiez à la messe en anglais\, à la messe en français\, à l’école du dimanche ou à l’école à la maison. C’est une belle occasion pour les enfants de partager leurs talents avec la paroisse\, leurs familles et la communauté. Rassemblons-nous comme une famille paroissiale pour célébrer Noël et notre anniversaire de fin d’année. Amenez vos enfants\, petits-enfants\, nièces et neveux – et joignez-vous à nous pour cette joyeuse célébration paroissiale!
URL:https://notredamedelorette.info/event/10am-meeting-for-nativity-concert-concert-de-noel/
LOCATION:Salle Notre-Dame-de-Lorette Hall\, 1282 Dawson Road\, Lorette\, Manitoba\, R0A 0Y0\, Canada
CATEGORIES:Celebrations 2025
END:VEVENT
BEGIN:VEVENT
DTSTART;TZID=America/New_York:20250928T100000
DTEND;TZID=America/New_York:20250928T130000
DTSTAMP:20260423T205757
CREATED:20250118T205246Z
LAST-MODIFIED:20251220T211308Z
UID:380513-1759053600-1759064400@notredamedelorette.info
SUMMARY:Déjeuner Communion | Communion Breakfast
DESCRIPTION:Communion Breakfast\, sponsored by the Knights of Columbus at the Parish Hall after both masses. The meal is free. Money raised for a good cause to be determined (see parish bulletin) ——————\nDéjeuner Communion\, commandité par les Chevaliers de Colomb à la salle paroissiale après chacune des deux messes. Le repas est gratuit. Dons prélevé pour une bonne cause (voir bulletin).
URL:https://notredamedelorette.info/event/dejeuner-communion-communion-breakfast-3/2025-09-28/
LOCATION:Salle Notre-Dame-de-Lorette Hall\, 1282 Dawson Road\, Lorette\, Manitoba\, R0A 0Y0\, Canada
CATEGORIES:Parish Event
END:VEVENT
BEGIN:VEVENT
DTSTART;TZID=America/New_York:20250621T180000
DTEND;TZID=America/New_York:20250621T235900
DTSTAMP:20260423T205757
CREATED:20240928T181707Z
LAST-MODIFIED:20241119T003605Z
UID:379385-1750528800-1750550340@notredamedelorette.info
SUMMARY:Celebrations 2025 Anniversary Banquet 6pm
DESCRIPTION:
URL:https://notredamedelorette.info/event/celebrations-2025-anniversary-banquet/
LOCATION:Salle Notre-Dame-de-Lorette Hall\, 1282 Dawson Road\, Lorette\, Manitoba\, R0A 0Y0\, Canada
CATEGORIES:Celebrations 2025
END:VEVENT
BEGIN:VEVENT
DTSTART;TZID=America/New_York:20250329T130000
DTEND;TZID=America/New_York:20250329T163000
DTSTAMP:20260423T205757
CREATED:20250319T214455Z
LAST-MODIFIED:20250319T214455Z
UID:381096-1743253200-1743265800@notredamedelorette.info
SUMMARY:Serena's Perimenopause Class 1pm-4:30pm
DESCRIPTION:
URL:https://notredamedelorette.info/event/serenas-perimenopause-class-1pm-430pm/
LOCATION:Salle Notre-Dame-de-Lorette Hall\, 1282 Dawson Road\, Lorette\, Manitoba\, R0A 0Y0\, Canada
CATEGORIES:Holy Fire Family Ministry,Parish Event
END:VEVENT
BEGIN:VEVENT
DTSTART;TZID=America/New_York:20241207T180000
DTEND;TZID=America/New_York:20241207T200000
DTSTAMP:20260423T205757
CREATED:20240928T183022Z
LAST-MODIFIED:20241118T201352Z
UID:379393-1733594400-1733601600@notredamedelorette.info
SUMMARY:Parade of Lights 6pm - (Celebrations 2025 float)
DESCRIPTION:
URL:https://notredamedelorette.info/event/celebrations-2025-christmas-parade/
LOCATION:Salle Notre-Dame-de-Lorette Hall\, 1282 Dawson Road\, Lorette\, Manitoba\, R0A 0Y0\, Canada
CATEGORIES:Parish Event
END:VEVENT
BEGIN:VEVENT
DTSTART;TZID=America/New_York:20241124T100000
DTEND;TZID=America/New_York:20241124T130000
DTSTAMP:20260423T205757
CREATED:20240828T194327Z
LAST-MODIFIED:20240828T194327Z
UID:379457-1732442400-1732453200@notredamedelorette.info
SUMMARY:Déjeuner Communion | Communion Breakfast
DESCRIPTION:Communion Breakfast\, sponsored by the Knights of Columbus at the Parish Hall after both masses. The meal is free. Money raised for a good cause to be determined (see parish bulletin) ——————-\nDéjeuner Communion\, commandité par les Chevaliers de Colomb à la salle paroissiale après chacune des deux messes. Le repas est gratuit. Dons prélevé pour une bonne cause (voir bulletin).
URL:https://notredamedelorette.info/event/dejeuner-communion-communion-breakfast-2/2024-11-24/
LOCATION:Salle Notre-Dame-de-Lorette Hall\, 1282 Dawson Road\, Lorette\, Manitoba\, R0A 0Y0\, Canada
CATEGORIES:Parish Event
END:VEVENT
BEGIN:VEVENT
DTSTART;TZID=America/New_York:20241116T090000
DTEND;TZID=America/New_York:20241116T110000
DTSTAMP:20260423T205757
CREATED:20240106T225058Z
LAST-MODIFIED:20240106T225058Z
UID:348895-1731747600-1731754800@notredamedelorette.info
SUMMARY:CPP/PPC Meeting
DESCRIPTION:
URL:https://notredamedelorette.info/event/cpp-ppc-meeting/2024-11-16/
LOCATION:Salle Notre-Dame-de-Lorette Hall\, 1282 Dawson Road\, Lorette\, Manitoba\, R0A 0Y0\, Canada
CATEGORIES:Meetings
END:VEVENT
BEGIN:VEVENT
DTSTART;TZID=America/New_York:20241103T100000
DTEND;TZID=America/New_York:20241103T130000
DTSTAMP:20260423T205757
CREATED:20241021T200326Z
LAST-MODIFIED:20241021T200326Z
UID:379451-1730628000-1730638800@notredamedelorette.info
SUMMARY:CWL Soup Sunday after both masses
DESCRIPTION:CWL Soup Sunday: CWL members invite you to join them for soup\, buns and dainties after both masses on Sunday\, November 3rd. There will be a free will offering for The Cove (youth drop in center in Lorette). \nDimanche de soupes du CWL: Les membres du CWL vous invitent à vous joindre à elles pour une soupe\, des brioches et du dessert après chacune des deux messes du dimanche le 3 novembre. Il y aura une offrande libre pour « The Cove» (centre d’accueil pour jeunes à Lorette).
URL:https://notredamedelorette.info/event/cwl-soup-sunday-after-both-masses/
LOCATION:Salle Notre-Dame-de-Lorette Hall\, 1282 Dawson Road\, Lorette\, Manitoba\, R0A 0Y0\, Canada
CATEGORIES:Parish Event
END:VEVENT
BEGIN:VEVENT
DTSTART;TZID=America/New_York:20241027T100000
DTEND;TZID=America/New_York:20241027T130000
DTSTAMP:20260423T205757
CREATED:20240828T194327Z
LAST-MODIFIED:20240828T194327Z
UID:379456-1730023200-1730034000@notredamedelorette.info
SUMMARY:Déjeuner Communion | Communion Breakfast
DESCRIPTION:Communion Breakfast\, sponsored by the Knights of Columbus at the Parish Hall after both masses. The meal is free. Money raised for a good cause to be determined (see parish bulletin) ——————-\nDéjeuner Communion\, commandité par les Chevaliers de Colomb à la salle paroissiale après chacune des deux messes. Le repas est gratuit. Dons prélevé pour une bonne cause (voir bulletin).
URL:https://notredamedelorette.info/event/dejeuner-communion-communion-breakfast-2/2024-10-27/
LOCATION:Salle Notre-Dame-de-Lorette Hall\, 1282 Dawson Road\, Lorette\, Manitoba\, R0A 0Y0\, Canada
CATEGORIES:Parish Event
END:VEVENT
BEGIN:VEVENT
DTSTART;TZID=America/New_York:20240929T100000
DTEND;TZID=America/New_York:20240929T130000
DTSTAMP:20260423T205757
CREATED:20240828T194327Z
LAST-MODIFIED:20241025T234134Z
UID:379030-1727604000-1727614800@notredamedelorette.info
SUMMARY:Déjeuner Communion | Communion Breakfast
DESCRIPTION:Communion Breakfast\, sponsored by the Knights of Columbus at the Parish Hall after both masses. The meal is free. Money raised for a good cause to be determined (see parish bulletin) ——————-\nDéjeuner Communion\, commandité par les Chevaliers de Colomb à la salle paroissiale après chacune des deux messes. Le repas est gratuit. Dons prélevé pour une bonne cause (voir bulletin).
URL:https://notredamedelorette.info/event/dejeuner-communion-communion-breakfast-2/2024-09-29/
LOCATION:Salle Notre-Dame-de-Lorette Hall\, 1282 Dawson Road\, Lorette\, Manitoba\, R0A 0Y0\, Canada
CATEGORIES:Parish Event
END:VEVENT
BEGIN:VEVENT
DTSTART;TZID=America/New_York:20240430T190000
DTEND;TZID=America/New_York:20240430T210000
DTSTAMP:20260423T205758
CREATED:20240404T012149Z
LAST-MODIFIED:20241021T192142Z
UID:378614-1714503600-1714510800@notredamedelorette.info
SUMMARY:Celebrations 2025 - Meeting 7pm
DESCRIPTION:
URL:https://notredamedelorette.info/event/celebrations-2025-meeting-7pm/
LOCATION:Salle Notre-Dame-de-Lorette Hall\, 1282 Dawson Road\, Lorette\, Manitoba\, R0A 0Y0\, Canada
CATEGORIES:Meetings
END:VEVENT
END:VCALENDAR