BEGIN:VCALENDAR
VERSION:2.0
PRODID:-// - ECPv6.15.17.1//NONSGML v1.0//EN
CALSCALE:GREGORIAN
METHOD:PUBLISH
X-ORIGINAL-URL:https://notredamedelorette.info
X-WR-CALDESC:Events for 
REFRESH-INTERVAL;VALUE=DURATION:PT1H
X-Robots-Tag:noindex
X-PUBLISHED-TTL:PT1H
BEGIN:VTIMEZONE
TZID:America/New_York
BEGIN:DAYLIGHT
TZOFFSETFROM:-0500
TZOFFSETTO:-0400
TZNAME:EDT
DTSTART:20240310T070000
END:DAYLIGHT
BEGIN:STANDARD
TZOFFSETFROM:-0400
TZOFFSETTO:-0500
TZNAME:EST
DTSTART:20241103T060000
END:STANDARD
BEGIN:DAYLIGHT
TZOFFSETFROM:-0500
TZOFFSETTO:-0400
TZNAME:EDT
DTSTART:20250309T070000
END:DAYLIGHT
BEGIN:STANDARD
TZOFFSETFROM:-0400
TZOFFSETTO:-0500
TZNAME:EST
DTSTART:20251102T060000
END:STANDARD
BEGIN:DAYLIGHT
TZOFFSETFROM:-0500
TZOFFSETTO:-0400
TZNAME:EDT
DTSTART:20260308T070000
END:DAYLIGHT
BEGIN:STANDARD
TZOFFSETFROM:-0400
TZOFFSETTO:-0500
TZNAME:EST
DTSTART:20261101T060000
END:STANDARD
END:VTIMEZONE
BEGIN:VEVENT
DTSTART;TZID=America/New_York:20251212T190000
DTEND;TZID=America/New_York:20251212T213000
DTSTAMP:20260424T005433
CREATED:20240914T210304Z
LAST-MODIFIED:20250915T194228Z
UID:381766-1765566000-1765575000@notredamedelorette.info
SUMMARY:Gr7-Gr12 Youth Night 7pm-930pm
DESCRIPTION:At the Parish Hall \nWHO WE ARE | MISSION STATEMENT:\nOur goal is to help youth to befriend Christ and understand the teachings of the Catholic Church. We strive to build friendships and community by learning together and having fun. \nFor Youth Grades 7 to 12 \nBelow is a link to register your child for youth group:\nhttps://forms.gle/GPBbJLw37StMuwkU7
URL:https://notredamedelorette.info/event/youth-night-7pm-930pm/2025-12-12/
LOCATION:Salle Notre-Dame-de-Lorette Hall\, 1282 Dawson Road\, Lorette\, Manitoba\, R0A 0Y0\, Canada
CATEGORIES:Youth Ministry
END:VEVENT
END:VCALENDAR