BEGIN:VCALENDAR
VERSION:2.0
PRODID:-// - ECPv6.15.17.1//NONSGML v1.0//EN
CALSCALE:GREGORIAN
METHOD:PUBLISH
X-ORIGINAL-URL:https://notredamedelorette.info
X-WR-CALDESC:Events for 
REFRESH-INTERVAL;VALUE=DURATION:PT1H
X-Robots-Tag:noindex
X-PUBLISHED-TTL:PT1H
BEGIN:VTIMEZONE
TZID:America/New_York
BEGIN:DAYLIGHT
TZOFFSETFROM:-0500
TZOFFSETTO:-0400
TZNAME:EDT
DTSTART:20240310T070000
END:DAYLIGHT
BEGIN:STANDARD
TZOFFSETFROM:-0400
TZOFFSETTO:-0500
TZNAME:EST
DTSTART:20241103T060000
END:STANDARD
BEGIN:DAYLIGHT
TZOFFSETFROM:-0500
TZOFFSETTO:-0400
TZNAME:EDT
DTSTART:20250309T070000
END:DAYLIGHT
BEGIN:STANDARD
TZOFFSETFROM:-0400
TZOFFSETTO:-0500
TZNAME:EST
DTSTART:20251102T060000
END:STANDARD
BEGIN:DAYLIGHT
TZOFFSETFROM:-0500
TZOFFSETTO:-0400
TZNAME:EDT
DTSTART:20260308T070000
END:DAYLIGHT
BEGIN:STANDARD
TZOFFSETFROM:-0400
TZOFFSETTO:-0500
TZNAME:EST
DTSTART:20261101T060000
END:STANDARD
END:VTIMEZONE
BEGIN:VEVENT
DTSTART;TZID=America/New_York:20250418T090000
DTEND;TZID=America/New_York:20250418T120000
DTSTAMP:20260424T114431
CREATED:20250409T153359Z
LAST-MODIFIED:20250409T153359Z
UID:381219-1744966800-1744977600@notredamedelorette.info
SUMMARY:Confession available 9am-12pm
DESCRIPTION:
URL:https://notredamedelorette.info/event/confession-available-9am-12pm/2025-04-18/
LOCATION:Église Notre-Dame-de-Lorette Church\, 1282 Dawson Road\, Lorette\, Manitoba\, R0A 0Y0\, Canada
CATEGORIES:Sacraments
END:VEVENT
BEGIN:VEVENT
DTSTART;TZID=America/New_York:20250418T160000
DTEND;TZID=America/New_York:20250418T170000
DTSTAMP:20260424T114431
CREATED:20250409T153445Z
LAST-MODIFIED:20250409T153445Z
UID:381222-1744992000-1744995600@notredamedelorette.info
SUMMARY:Confessions available after 3pm service
DESCRIPTION:
URL:https://notredamedelorette.info/event/confessions-available-after-3pm-service/
LOCATION:Église Notre-Dame-de-Lorette Church\, 1282 Dawson Road\, Lorette\, Manitoba\, R0A 0Y0\, Canada
CATEGORIES:Sacraments
END:VEVENT
BEGIN:VEVENT
DTSTART;TZID=America/New_York:20250419T090000
DTEND;TZID=America/New_York:20250419T120000
DTSTAMP:20260424T114431
CREATED:20250409T153359Z
LAST-MODIFIED:20250409T153359Z
UID:381221-1745053200-1745064000@notredamedelorette.info
SUMMARY:Confession available 9am-12pm
DESCRIPTION:
URL:https://notredamedelorette.info/event/confession-available-9am-12pm/2025-04-19/
LOCATION:Église Notre-Dame-de-Lorette Church\, 1282 Dawson Road\, Lorette\, Manitoba\, R0A 0Y0\, Canada
CATEGORIES:Sacraments
END:VEVENT
END:VCALENDAR