BEGIN:VCALENDAR
VERSION:2.0
PRODID:-// - ECPv6.15.17.1//NONSGML v1.0//EN
CALSCALE:GREGORIAN
METHOD:PUBLISH
X-ORIGINAL-URL:https://notredamedelorette.info
X-WR-CALDESC:Events for 
REFRESH-INTERVAL;VALUE=DURATION:PT1H
X-Robots-Tag:noindex
X-PUBLISHED-TTL:PT1H
BEGIN:VTIMEZONE
TZID:America/New_York
BEGIN:DAYLIGHT
TZOFFSETFROM:-0500
TZOFFSETTO:-0400
TZNAME:EDT
DTSTART:20240310T070000
END:DAYLIGHT
BEGIN:STANDARD
TZOFFSETFROM:-0400
TZOFFSETTO:-0500
TZNAME:EST
DTSTART:20241103T060000
END:STANDARD
BEGIN:DAYLIGHT
TZOFFSETFROM:-0500
TZOFFSETTO:-0400
TZNAME:EDT
DTSTART:20250309T070000
END:DAYLIGHT
BEGIN:STANDARD
TZOFFSETFROM:-0400
TZOFFSETTO:-0500
TZNAME:EST
DTSTART:20251102T060000
END:STANDARD
BEGIN:DAYLIGHT
TZOFFSETFROM:-0500
TZOFFSETTO:-0400
TZNAME:EDT
DTSTART:20260308T070000
END:DAYLIGHT
BEGIN:STANDARD
TZOFFSETFROM:-0400
TZOFFSETTO:-0500
TZNAME:EST
DTSTART:20261101T060000
END:STANDARD
END:VTIMEZONE
BEGIN:VEVENT
DTSTART;TZID=America/New_York:20251205T183000
DTEND;TZID=America/New_York:20251205T223000
DTSTAMP:20260424T005008
CREATED:20251107T173826Z
LAST-MODIFIED:20251115T205113Z
UID:382259-1764959400-1764973800@notredamedelorette.info
SUMMARY:Women's Advent Retreat 7pm
DESCRIPTION:Doors open 6:30pm \nWho: All women 18+ * Nursing babies welcome\nDate: Friday\, December 5\, 2025\nTime: 6:30pm – Doors Open\, Coffee and Tea available\n7pm-9:30pm – Retreat\n9:30pm-10:30pm – Optional Fellowship and Snack\nLocation: Notre Dame de Lorette Church\, Lorette\, MB\nCost: Freewill offering \nJoin other women seeking God’s heart this Advent season. Come for an evening of encounter through praise and worship\, adoration\, the sacrament of reconciliation\, prayer\, growth\, reflection\, heart-to-heart sharing\, laughter\, tears\, fellowship and food. Cathy Smook will once again be sharing her gift of teaching with us before we spend time with the Lord.\nRSVP Date: Please register by Tuesday\, December 2. This allows you to receive our reminder email with any final details. Of course\, we know that God sometimes opens the doors for ladies to attend at the last minute. Therefore\, if you did not register before Dec. 2\, you are still welcome! We always make extra copies of any handouts\, knowing God’s timing is not our own.\nHere is the link to register: https://forms.gle/NTAJm3F3hvDzqvgk7
URL:https://notredamedelorette.info/event/womens-advent-retreat-7pm/
LOCATION:Église Notre-Dame-de-Lorette Church\, 1282 Dawson Road\, Lorette\, Manitoba\, R0A 0Y0\, Canada
CATEGORIES:Holy Fire Family Ministry
END:VEVENT
BEGIN:VEVENT
DTSTART;TZID=America/New_York:20251207T140000
DTEND;TZID=America/New_York:20251207T160000
DTSTAMP:20260424T005008
CREATED:20251003T185121Z
LAST-MODIFIED:20251003T185121Z
UID:382014-1765116000-1765123200@notredamedelorette.info
SUMMARY:2pm Practice for Christmas Concert/Spectacle de Noel
DESCRIPTION:
URL:https://notredamedelorette.info/event/2pm-practice-for-nativity-concert-spectacle-de-noel/2025-12-07/
LOCATION:Église Notre-Dame-de-Lorette Church\, 1282 Dawson Road\, Lorette\, Manitoba\, R0A 0Y0\, Canada
CATEGORIES:Celebrations 2025
END:VEVENT
BEGIN:VEVENT
DTSTART;TZID=America/New_York:20251213T130000
DTEND;TZID=America/New_York:20251213T153000
DTSTAMP:20260424T005008
CREATED:20251003T185649Z
LAST-MODIFIED:20251003T185649Z
UID:382006-1765630800-1765639800@notredamedelorette.info
SUMMARY:1pm Dress rehearsal Christmas concert/ 13h Pratique générale Concert de Noel
DESCRIPTION:
URL:https://notredamedelorette.info/event/1pm-dress-rehearsal-christmas-concert-13h-pratique-generale-concert-de-noel/
LOCATION:Église Notre-Dame-de-Lorette Church\, 1282 Dawson Road\, Lorette\, Manitoba\, R0A 0Y0\, Canada
CATEGORIES:Celebrations 2025
END:VEVENT
BEGIN:VEVENT
DTSTART;TZID=America/New_York:20251213T190000
DTEND;TZID=America/New_York:20251213T213000
DTSTAMP:20260424T005008
CREATED:20240928T182818Z
LAST-MODIFIED:20251213T233236Z
UID:379391-1765652400-1765661400@notredamedelorette.info
SUMMARY:7pm Bilingual Christmas play and party/Concert de Noel et fête
DESCRIPTION:Christmas play at the church followed by birthday party for Jesus at the hall
URL:https://notredamedelorette.info/event/celebrations-2025-children-youth-mass/
LOCATION:Église Notre-Dame-de-Lorette Church\, 1282 Dawson Road\, Lorette\, Manitoba\, R0A 0Y0\, Canada
CATEGORIES:Celebrations 2025
END:VEVENT
BEGIN:VEVENT
DTSTART;TZID=America/New_York:20251214T103000
DTEND;TZID=America/New_York:20251214T113000
DTSTAMP:20260424T005008
CREATED:20251107T173338Z
LAST-MODIFIED:20251107T173338Z
UID:382257-1765708200-1765711800@notredamedelorette.info
SUMMARY:10:30am Bilingual Mass - Messe bilingue (Feast of Our Lady of Loreto from Dec.10th)
DESCRIPTION:
URL:https://notredamedelorette.info/event/1030am-bilingual-mass-messe-bilingue-feast-of-our-lady-of-loreto-from-dec-10th/
LOCATION:Église Notre-Dame-de-Lorette Church\, 1282 Dawson Road\, Lorette\, Manitoba\, R0A 0Y0\, Canada
CATEGORIES:Celebrations 2025,Liturgy
END:VEVENT
END:VCALENDAR