BEGIN:VCALENDAR
VERSION:2.0
PRODID:-// - ECPv6.15.17.1//NONSGML v1.0//EN
CALSCALE:GREGORIAN
METHOD:PUBLISH
X-ORIGINAL-URL:https://notredamedelorette.info
X-WR-CALDESC:Events for 
REFRESH-INTERVAL;VALUE=DURATION:PT1H
X-Robots-Tag:noindex
X-PUBLISHED-TTL:PT1H
BEGIN:VTIMEZONE
TZID:America/New_York
BEGIN:DAYLIGHT
TZOFFSETFROM:-0500
TZOFFSETTO:-0400
TZNAME:EDT
DTSTART:20240310T070000
END:DAYLIGHT
BEGIN:STANDARD
TZOFFSETFROM:-0400
TZOFFSETTO:-0500
TZNAME:EST
DTSTART:20241103T060000
END:STANDARD
BEGIN:DAYLIGHT
TZOFFSETFROM:-0500
TZOFFSETTO:-0400
TZNAME:EDT
DTSTART:20250309T070000
END:DAYLIGHT
BEGIN:STANDARD
TZOFFSETFROM:-0400
TZOFFSETTO:-0500
TZNAME:EST
DTSTART:20251102T060000
END:STANDARD
BEGIN:DAYLIGHT
TZOFFSETFROM:-0500
TZOFFSETTO:-0400
TZNAME:EDT
DTSTART:20260308T070000
END:DAYLIGHT
BEGIN:STANDARD
TZOFFSETFROM:-0400
TZOFFSETTO:-0500
TZNAME:EST
DTSTART:20261101T060000
END:STANDARD
END:VTIMEZONE
BEGIN:VEVENT
DTSTART;TZID=America/New_York:20251004T184500
DTEND;TZID=America/New_York:20251004T220000
DTSTAMP:20260424T032319
CREATED:20230107T231428Z
LAST-MODIFIED:20251220T212138Z
UID:248984-1759603500-1759615200@notredamedelorette.info
SUMMARY:ALL WELCOME! Family Adoration & Fellowship 6:45pm-10pm
DESCRIPTION:Family Adoration Hour followed by Fellowship in the hall! \nAdoration from 6:45-7:45pm in the church\nFellowship & Fun from 7:45-10:00pm in the hall \nAll are welcome! Invite your family and friends to worship with us\, then enjoy each other’s company in the hall. Adoration will start with praise and worship music\, followed by a short personal prayer time\, ending with more worship. Very family friendly! Kid noises are welcomed and expected.\nIf you are joining us for fellowship in the hall\, please bring snacks to share. \nThere will be toys for younger children. Your older kids are invited to bring a game to play with others.
URL:https://notredamedelorette.info/event/all-welcome-family-adoration-fellowship-3/2025-10-04/
LOCATION:Église Notre-Dame-de-Lorette Church\, 1282 Dawson Road\, Lorette\, Manitoba\, R0A 0Y0\, Canada
CATEGORIES:Holy Fire Family Ministry
END:VEVENT
BEGIN:VEVENT
DTSTART;TZID=America/New_York:20251005T100000
DTEND;TZID=America/New_York:20251005T105500
DTSTAMP:20260424T032319
CREATED:20250919T202810Z
LAST-MODIFIED:20251003T190908Z
UID:381837-1759658400-1759661700@notredamedelorette.info
SUMMARY:10am Meeting for Christmas Concert/Concert de Noel
DESCRIPTION:Year-End Anniversary Celebration – Christmas Bilingual Nativity Concert  \nParents\, grandparents\, children\, and youth – actors\, musicians\, singers\, set and sound helpers – there is room for everyone to be part of our Year-End Anniversary Celebration! \nWe are excited to announce that our parish will be hosting a Christmas Bilingual Nativity Concert on Saturday\, December 13. All children and youth ages 5 to 19 are invited to take part in this special celebration. \nThe first meeting for all interested children and their parents will be held on Sunday\, October 5\, from 10:00–10:55 a.m at the PARISH HALL\, between the English and French Masses. This time will allow English families to attend after Mass and French families to come before Mass. \nEvery child and youth is welcome\, whether you attend English Mass\, French Mass\, Sunday School\, or Home School. This is a wonderful opportunity for children to share their talents with the parish\, their families\, and the community. Let us come together as a parish family to celebrate Christmas and our year-end anniversary. Bring your children\, grandchildren\, nieces\, and nephews – and join us for this joyful parish celebration! \nFaith Suttorp & Suzanne Desmarais  \n—————————- \nCélébration de fin d’année – Concert de Noël bilingue de la Nativité  \nParents\, grands-parents\, enfants et jeunes – acteurs\, musiciens\, chanteurs\, aide à la scène et au son – il y a de la place pour tout le monde pour participer à notre célébration de fin d’année! \nNous sommes heureux d’annoncer que notre paroisse présentera un Concert de Noël bilingue de la Nativité le samedi 13 décembre. Tous les enfants et les jeunes de 5 à 19 ans sont invités à prendre part à cette célébration spéciale. \nLa première rencontre pour tous les enfants intéressés et leurs parents aura lieu le dimanche 5 octobre\, de 10 h 00 à 10 h 55 à la SALLE PAROISSIALE\, entre la messe en anglais et la messe en français. Ce moment permettra aux familles anglophones d’y participer après la messe et aux familles francophones d’y assister avant la messe. Tous les enfants et les jeunes sont les bienvenus\, que vous assistiez à la messe en anglais\, à la messe en français\, à l’école du dimanche ou à l’école à la maison. C’est une belle occasion pour les enfants de partager leurs talents avec la paroisse\, leurs familles et la communauté. Rassemblons-nous comme une famille paroissiale pour célébrer Noël et notre anniversaire de fin d’année. Amenez vos enfants\, petits-enfants\, nièces et neveux – et joignez-vous à nous pour cette joyeuse célébration paroissiale!
URL:https://notredamedelorette.info/event/10am-meeting-for-nativity-concert-concert-de-noel/
LOCATION:Salle Notre-Dame-de-Lorette Hall\, 1282 Dawson Road\, Lorette\, Manitoba\, R0A 0Y0\, Canada
CATEGORIES:Celebrations 2025
END:VEVENT
BEGIN:VEVENT
DTSTART;TZID=America/New_York:20251026T100000
DTEND;TZID=America/New_York:20251026T130000
DTSTAMP:20260424T032319
CREATED:20250118T205246Z
LAST-MODIFIED:20251220T211308Z
UID:381737-1761472800-1761483600@notredamedelorette.info
SUMMARY:Déjeuner Communion | Communion Breakfast
DESCRIPTION:Communion Breakfast\, sponsored by the Knights of Columbus at the Parish Hall after both masses. The meal is free. Money raised for a good cause to be determined (see parish bulletin) ——————\nDéjeuner Communion\, commandité par les Chevaliers de Colomb à la salle paroissiale après chacune des deux messes. Le repas est gratuit. Dons prélevé pour une bonne cause (voir bulletin).
URL:https://notredamedelorette.info/event/dejeuner-communion-communion-breakfast-3/2025-10-26/
LOCATION:Salle Notre-Dame-de-Lorette Hall\, 1282 Dawson Road\, Lorette\, Manitoba\, R0A 0Y0\, Canada
CATEGORIES:Parish Event
END:VEVENT
END:VCALENDAR