BEGIN:VCALENDAR
VERSION:2.0
PRODID:-// - ECPv6.15.17.1//NONSGML v1.0//EN
CALSCALE:GREGORIAN
METHOD:PUBLISH
X-ORIGINAL-URL:https://notredamedelorette.info
X-WR-CALDESC:Events for 
REFRESH-INTERVAL;VALUE=DURATION:PT1H
X-Robots-Tag:noindex
X-PUBLISHED-TTL:PT1H
BEGIN:VTIMEZONE
TZID:America/New_York
BEGIN:DAYLIGHT
TZOFFSETFROM:-0500
TZOFFSETTO:-0400
TZNAME:EDT
DTSTART:20240310T070000
END:DAYLIGHT
BEGIN:STANDARD
TZOFFSETFROM:-0400
TZOFFSETTO:-0500
TZNAME:EST
DTSTART:20241103T060000
END:STANDARD
BEGIN:DAYLIGHT
TZOFFSETFROM:-0500
TZOFFSETTO:-0400
TZNAME:EDT
DTSTART:20250309T070000
END:DAYLIGHT
BEGIN:STANDARD
TZOFFSETFROM:-0400
TZOFFSETTO:-0500
TZNAME:EST
DTSTART:20251102T060000
END:STANDARD
BEGIN:DAYLIGHT
TZOFFSETFROM:-0500
TZOFFSETTO:-0400
TZNAME:EDT
DTSTART:20260308T070000
END:DAYLIGHT
BEGIN:STANDARD
TZOFFSETFROM:-0400
TZOFFSETTO:-0500
TZNAME:EST
DTSTART:20261101T060000
END:STANDARD
END:VTIMEZONE
BEGIN:VEVENT
DTSTART;TZID=America/New_York:20250607T183000
DTEND;TZID=America/New_York:20250607T193000
DTSTAMP:20260424T084830
CREATED:20250524T220951Z
LAST-MODIFIED:20250524T221052Z
UID:381296-1749321000-1749324600@notredamedelorette.info
SUMMARY:ALL WELCOME! Family Adoration 6:30pm-7:30pm
DESCRIPTION:Family Adoration Hour followed by Family Dance in the hall! \nAdoration from 6:30-7:30pm in the church\nFamily Dance from 7:30-10:00pm in the hall
URL:https://notredamedelorette.info/event/all-welcome-family-adoration-630pm-730pm/
LOCATION:Église Notre-Dame-de-Lorette Church\, 1282 Dawson Road\, Lorette\, Manitoba\, R0A 0Y0\, Canada
CATEGORIES:Holy Fire Family Ministry,Parish Event
END:VEVENT
BEGIN:VEVENT
DTSTART;TZID=America/New_York:20250607T193000
DTEND;TZID=America/New_York:20250607T220000
DTSTAMP:20260424T084830
CREATED:20250524T215940Z
LAST-MODIFIED:20250524T220209Z
UID:381287-1749324600-1749333600@notredamedelorette.info
SUMMARY:ALL WELCOME! Old Time Family Dance! (@7:30pm after family adoration) Danse familiale d'antan!
DESCRIPTION:Following family adoration… Families of all shapes\, sizes\, and ages are invited to join us  in the Parish Hall. Doors open at 7:30pm. Dancing\, food\, and fellowship from 7:45pm-10pm Live music and dance calling (instruction) by the Reimer Family and Friends. If your family isn’t into dancing\, please feel free to bring cards or board games and come enjoy the music and fellowship. Please bring a snack to share. No admission\, simply a free-will offering to help cover costs. Whether you bring your family or grandchildren\, come alone or with a friend\, we’ll see you on the dance floor! \n——————- \nLes familles peu importes la taille ou l’âge\, sont invitées à se joindre à nous à la salle paroissiale. Ouverture des portes à 19h30. Danse\, nourriture et camaraderie de 19h45 à 22h00\, Musique live et appel à la danse (instruction) par la famille et les amis Reimer. Si votre famille n’aime pas danser\, n’hésitez pas à apporter des cartes ou des jeux de société et à venir profiter de la musique et de la camaraderie. S’il vous plaît apporter une collation à partager. Pas de coût d’entrée\, simplement une offrande libre pour aider à défrayer les coûts. \nQue vous ameniez votre famille ou vos petits-enfants\, que vous veniez seul ou avec un ami; Rendez-vous sur le plancher de danse!
URL:https://notredamedelorette.info/event/all-welcome-old-time-family-dance-after-family-adoration-danse-familiale-dantan/
LOCATION:Église Notre-Dame-de-Lorette Church\, 1282 Dawson Road\, Lorette\, Manitoba\, R0A 0Y0\, Canada
CATEGORIES:Holy Fire Family Ministry,Parish Event
END:VEVENT
BEGIN:VEVENT
DTSTART;TZID=America/New_York:20250621T160000
DTEND;TZID=America/New_York:20250621T170000
DTSTAMP:20260424T084830
CREATED:20240928T181546Z
LAST-MODIFIED:20241119T003756Z
UID:379383-1750521600-1750525200@notredamedelorette.info
SUMMARY:Celebrations 2025 Bilingual Anniversary Mass 4pm
DESCRIPTION:
URL:https://notredamedelorette.info/event/celebrations-2025-anniversary-mass/
LOCATION:Église Notre-Dame-de-Lorette Church\, 1282 Dawson Road\, Lorette\, Manitoba\, R0A 0Y0\, Canada
CATEGORIES:Celebrations 2025
END:VEVENT
BEGIN:VEVENT
DTSTART;TZID=America/New_York:20250621T180000
DTEND;TZID=America/New_York:20250621T235900
DTSTAMP:20260424T084830
CREATED:20240928T181707Z
LAST-MODIFIED:20241119T003605Z
UID:379385-1750528800-1750550340@notredamedelorette.info
SUMMARY:Celebrations 2025 Anniversary Banquet 6pm
DESCRIPTION:
URL:https://notredamedelorette.info/event/celebrations-2025-anniversary-banquet/
LOCATION:Salle Notre-Dame-de-Lorette Hall\, 1282 Dawson Road\, Lorette\, Manitoba\, R0A 0Y0\, Canada
CATEGORIES:Celebrations 2025
END:VEVENT
BEGIN:VEVENT
DTSTART;TZID=America/New_York:20250622T103000
DTEND;TZID=America/New_York:20250622T113000
DTSTAMP:20260424T084830
CREATED:20240928T182421Z
LAST-MODIFIED:20241119T003938Z
UID:379387-1750588200-1750591800@notredamedelorette.info
SUMMARY:Celebrations 2025 Bilingual Mass 10:30am - Messe Bilingue
DESCRIPTION:Bilingual mass @ 10:30 am followed by Corpus Christi procession \n\nMesse bilingue à 10h30 suivie d’une procession Corpus Christi
URL:https://notredamedelorette.info/event/celebrations-2025-sunday-mass/
LOCATION:Église Notre-Dame-de-Lorette Church\, 1282 Dawson Road\, Lorette\, Manitoba\, R0A 0Y0\, Canada
CATEGORIES:Celebrations 2025
END:VEVENT
BEGIN:VEVENT
DTSTART;TZID=America/New_York:20250622T120000
DTEND;TZID=America/New_York:20250622T163000
DTSTAMP:20260424T084830
CREATED:20240928T182702Z
LAST-MODIFIED:20250614T025337Z
UID:379389-1750593600-1750609800@notredamedelorette.info
SUMMARY:Parish Picnic at Spirit Park 12pm-430pm
DESCRIPTION:To Celebrate the church’s 125 year\, The Church Celebration committee is hosting a Family Picnic on June 22\, 2025 at Spirit Park from 12pm to 430pm. All are welcome. We will serve hotdogs\, chips and refreshments\, and have children’s games and entertainment. \nPour célébrer le 125e anniversaire de l’église\, le comité de célébration de l’église organise un pique-nique familial le 22 juin 2025 au Spirit Park\, de 12 h à 16 h 30. Tout le monde est le bienvenu. Nous servirons des hot-dogs\, des frites et des rafraîchissements. Il y aura également des jeux pour enfants et des divertissements.
URL:https://notredamedelorette.info/event/celebrations-2025-parish-picnic/
LOCATION:Manitoba
CATEGORIES:Celebrations 2025
END:VEVENT
END:VCALENDAR