BEGIN:VCALENDAR
VERSION:2.0
PRODID:-// - ECPv6.15.17.1//NONSGML v1.0//EN
CALSCALE:GREGORIAN
METHOD:PUBLISH
X-ORIGINAL-URL:https://notredamedelorette.info
X-WR-CALDESC:Events for 
REFRESH-INTERVAL;VALUE=DURATION:PT1H
X-Robots-Tag:noindex
X-PUBLISHED-TTL:PT1H
BEGIN:VTIMEZONE
TZID:America/New_York
BEGIN:DAYLIGHT
TZOFFSETFROM:-0500
TZOFFSETTO:-0400
TZNAME:EDT
DTSTART:20240310T070000
END:DAYLIGHT
BEGIN:STANDARD
TZOFFSETFROM:-0400
TZOFFSETTO:-0500
TZNAME:EST
DTSTART:20241103T060000
END:STANDARD
BEGIN:DAYLIGHT
TZOFFSETFROM:-0500
TZOFFSETTO:-0400
TZNAME:EDT
DTSTART:20250309T070000
END:DAYLIGHT
BEGIN:STANDARD
TZOFFSETFROM:-0400
TZOFFSETTO:-0500
TZNAME:EST
DTSTART:20251102T060000
END:STANDARD
BEGIN:DAYLIGHT
TZOFFSETFROM:-0500
TZOFFSETTO:-0400
TZNAME:EDT
DTSTART:20260308T070000
END:DAYLIGHT
BEGIN:STANDARD
TZOFFSETFROM:-0400
TZOFFSETTO:-0500
TZNAME:EST
DTSTART:20261101T060000
END:STANDARD
END:VTIMEZONE
BEGIN:VEVENT
DTSTART;TZID=America/New_York:20250404T190000
DTEND;TZID=America/New_York:20250404T203000
DTSTAMP:20260424T114039
CREATED:20250313T011728Z
LAST-MODIFIED:20250313T011844Z
UID:381081-1743793200-1743798600@notredamedelorette.info
SUMMARY:"Three Hearts As One: A Living Stations of the Cross Lenten Experience" 7pm
DESCRIPTION:“Three Hearts As One: A Living Stations of the Cross Lenten Experience” is prayerfully being presented in English Friday April 4th at Paroisse Notre-Dame-de-Lorette Parish by Grotto Theater Ministries. Stations at 7pm.”
URL:https://notredamedelorette.info/event/three-hearts-as-one-a-living-stations-of-the-cross-lenten-experience-7pm/
LOCATION:Église Notre-Dame-de-Lorette Church\, 1282 Dawson Road\, Lorette\, Manitoba\, R0A 0Y0\, Canada
CATEGORIES:Parish Event
END:VEVENT
BEGIN:VEVENT
DTSTART;TZID=America/New_York:20250408T183000
DTEND;TZID=America/New_York:20250408T193000
DTSTAMP:20260424T114039
CREATED:20250405T162148Z
LAST-MODIFIED:20250405T162148Z
UID:381190-1744137000-1744140600@notredamedelorette.info
SUMMARY:Chemin de croix 18h30
DESCRIPTION:
URL:https://notredamedelorette.info/event/chemin-de-croix-18h30/2025-04-08/
LOCATION:Église Notre-Dame-de-Lorette Church\, 1282 Dawson Road\, Lorette\, Manitoba\, R0A 0Y0\, Canada
CATEGORIES:Parish Event
END:VEVENT
BEGIN:VEVENT
DTSTART;TZID=America/New_York:20250411T143000
DTEND;TZID=America/New_York:20250411T150000
DTSTAMP:20260424T114039
CREATED:20250319T214047Z
LAST-MODIFIED:20250319T214047Z
UID:381095-1744381800-1744383600@notredamedelorette.info
SUMMARY:Way of the Cross 2:30pm
DESCRIPTION:
URL:https://notredamedelorette.info/event/way-of-the-cross-230pm/2025-04-11/
LOCATION:Église Notre-Dame-de-Lorette Church\, 1282 Dawson Road\, Lorette\, Manitoba\, R0A 0Y0\, Canada
CATEGORIES:Parish Event
END:VEVENT
BEGIN:VEVENT
DTSTART;TZID=America/New_York:20250414T183000
DTEND;TZID=America/New_York:20250414T193000
DTSTAMP:20260424T114039
CREATED:20250405T162148Z
LAST-MODIFIED:20250405T162148Z
UID:381192-1744655400-1744659000@notredamedelorette.info
SUMMARY:Chemin de croix 18h30
DESCRIPTION:
URL:https://notredamedelorette.info/event/chemin-de-croix-18h30/2025-04-14/
LOCATION:Église Notre-Dame-de-Lorette Church\, 1282 Dawson Road\, Lorette\, Manitoba\, R0A 0Y0\, Canada
CATEGORIES:Parish Event
END:VEVENT
END:VCALENDAR