BEGIN:VCALENDAR
VERSION:2.0
PRODID:-// - ECPv6.15.17.1//NONSGML v1.0//EN
CALSCALE:GREGORIAN
METHOD:PUBLISH
X-ORIGINAL-URL:https://notredamedelorette.info
X-WR-CALDESC:Events for 
REFRESH-INTERVAL;VALUE=DURATION:PT1H
X-Robots-Tag:noindex
X-PUBLISHED-TTL:PT1H
BEGIN:VTIMEZONE
TZID:America/New_York
BEGIN:DAYLIGHT
TZOFFSETFROM:-0500
TZOFFSETTO:-0400
TZNAME:EDT
DTSTART:20240310T070000
END:DAYLIGHT
BEGIN:STANDARD
TZOFFSETFROM:-0400
TZOFFSETTO:-0500
TZNAME:EST
DTSTART:20241103T060000
END:STANDARD
BEGIN:DAYLIGHT
TZOFFSETFROM:-0500
TZOFFSETTO:-0400
TZNAME:EDT
DTSTART:20250309T070000
END:DAYLIGHT
BEGIN:STANDARD
TZOFFSETFROM:-0400
TZOFFSETTO:-0500
TZNAME:EST
DTSTART:20251102T060000
END:STANDARD
BEGIN:DAYLIGHT
TZOFFSETFROM:-0500
TZOFFSETTO:-0400
TZNAME:EDT
DTSTART:20260308T070000
END:DAYLIGHT
BEGIN:STANDARD
TZOFFSETFROM:-0400
TZOFFSETTO:-0500
TZNAME:EST
DTSTART:20261101T060000
END:STANDARD
END:VTIMEZONE
BEGIN:VEVENT
DTSTART;TZID=America/New_York:20250321T143000
DTEND;TZID=America/New_York:20250321T150000
DTSTAMP:20260424T130251
CREATED:20250319T214047Z
LAST-MODIFIED:20250319T214047Z
UID:381092-1742567400-1742569200@notredamedelorette.info
SUMMARY:Way of the Cross 2:30pm
DESCRIPTION:
URL:https://notredamedelorette.info/event/way-of-the-cross-230pm/2025-03-21/
LOCATION:Église Notre-Dame-de-Lorette Church\, 1282 Dawson Road\, Lorette\, Manitoba\, R0A 0Y0\, Canada
CATEGORIES:Parish Event
END:VEVENT
BEGIN:VEVENT
DTSTART;TZID=America/New_York:20250328T143000
DTEND;TZID=America/New_York:20250328T150000
DTSTAMP:20260424T130251
CREATED:20250319T214047Z
LAST-MODIFIED:20250319T214047Z
UID:381094-1743172200-1743174000@notredamedelorette.info
SUMMARY:Way of the Cross 2:30pm
DESCRIPTION:
URL:https://notredamedelorette.info/event/way-of-the-cross-230pm/2025-03-28/
LOCATION:Église Notre-Dame-de-Lorette Church\, 1282 Dawson Road\, Lorette\, Manitoba\, R0A 0Y0\, Canada
CATEGORIES:Parish Event
END:VEVENT
BEGIN:VEVENT
DTSTART;TZID=America/New_York:20250329T130000
DTEND;TZID=America/New_York:20250329T163000
DTSTAMP:20260424T130251
CREATED:20250319T214455Z
LAST-MODIFIED:20250319T214455Z
UID:381096-1743253200-1743265800@notredamedelorette.info
SUMMARY:Serena's Perimenopause Class 1pm-4:30pm
DESCRIPTION:
URL:https://notredamedelorette.info/event/serenas-perimenopause-class-1pm-430pm/
LOCATION:Salle Notre-Dame-de-Lorette Hall\, 1282 Dawson Road\, Lorette\, Manitoba\, R0A 0Y0\, Canada
CATEGORIES:Holy Fire Family Ministry,Parish Event
END:VEVENT
END:VCALENDAR