BEGIN:VCALENDAR
VERSION:2.0
PRODID:-// - ECPv6.15.17.1//NONSGML v1.0//EN
CALSCALE:GREGORIAN
METHOD:PUBLISH
X-ORIGINAL-URL:https://notredamedelorette.info
X-WR-CALDESC:Events for 
REFRESH-INTERVAL;VALUE=DURATION:PT1H
X-Robots-Tag:noindex
X-PUBLISHED-TTL:PT1H
BEGIN:VTIMEZONE
TZID:America/New_York
BEGIN:DAYLIGHT
TZOFFSETFROM:-0500
TZOFFSETTO:-0400
TZNAME:EDT
DTSTART:20230312T070000
END:DAYLIGHT
BEGIN:STANDARD
TZOFFSETFROM:-0400
TZOFFSETTO:-0500
TZNAME:EST
DTSTART:20231105T060000
END:STANDARD
BEGIN:DAYLIGHT
TZOFFSETFROM:-0500
TZOFFSETTO:-0400
TZNAME:EDT
DTSTART:20240310T070000
END:DAYLIGHT
BEGIN:STANDARD
TZOFFSETFROM:-0400
TZOFFSETTO:-0500
TZNAME:EST
DTSTART:20241103T060000
END:STANDARD
BEGIN:DAYLIGHT
TZOFFSETFROM:-0500
TZOFFSETTO:-0400
TZNAME:EDT
DTSTART:20250309T070000
END:DAYLIGHT
BEGIN:STANDARD
TZOFFSETFROM:-0400
TZOFFSETTO:-0500
TZNAME:EST
DTSTART:20251102T060000
END:STANDARD
END:VTIMEZONE
BEGIN:VEVENT
DTSTART;TZID=America/New_York:20241103T100000
DTEND;TZID=America/New_York:20241103T130000
DTSTAMP:20260424T181644
CREATED:20241021T200326Z
LAST-MODIFIED:20241021T200326Z
UID:379451-1730628000-1730638800@notredamedelorette.info
SUMMARY:CWL Soup Sunday after both masses
DESCRIPTION:CWL Soup Sunday: CWL members invite you to join them for soup\, buns and dainties after both masses on Sunday\, November 3rd. There will be a free will offering for The Cove (youth drop in center in Lorette). \nDimanche de soupes du CWL: Les membres du CWL vous invitent à vous joindre à elles pour une soupe\, des brioches et du dessert après chacune des deux messes du dimanche le 3 novembre. Il y aura une offrande libre pour « The Cove» (centre d’accueil pour jeunes à Lorette).
URL:https://notredamedelorette.info/event/cwl-soup-sunday-after-both-masses/
LOCATION:Salle Notre-Dame-de-Lorette Hall\, 1282 Dawson Road\, Lorette\, Manitoba\, R0A 0Y0\, Canada
CATEGORIES:Parish Event
END:VEVENT
BEGIN:VEVENT
DTSTART;TZID=America/New_York:20241112T190000
DTEND;TZID=America/New_York:20241112T210000
DTSTAMP:20260424T181644
CREATED:20241021T192256Z
LAST-MODIFIED:20241026T174241Z
UID:379438-1731438000-1731445200@notredamedelorette.info
SUMMARY:Celebrations Meeting - 7pm Sacristy
DESCRIPTION:
URL:https://notredamedelorette.info/event/celebrations-meeting-7pm-sacristy/
LOCATION:Sacristie de l’église ~ Church Sacristy\, 1282 Dawson Road\, Lorette West\, Manitoba\, Canada
CATEGORIES:Celebrations 2025
END:VEVENT
BEGIN:VEVENT
DTSTART;TZID=America/New_York:20241124T100000
DTEND;TZID=America/New_York:20241124T130000
DTSTAMP:20260424T181644
CREATED:20240828T194327Z
LAST-MODIFIED:20240828T194327Z
UID:379457-1732442400-1732453200@notredamedelorette.info
SUMMARY:Déjeuner Communion | Communion Breakfast
DESCRIPTION:Communion Breakfast\, sponsored by the Knights of Columbus at the Parish Hall after both masses. The meal is free. Money raised for a good cause to be determined (see parish bulletin) ——————-\nDéjeuner Communion\, commandité par les Chevaliers de Colomb à la salle paroissiale après chacune des deux messes. Le repas est gratuit. Dons prélevé pour une bonne cause (voir bulletin).
URL:https://notredamedelorette.info/event/dejeuner-communion-communion-breakfast-2/2024-11-24/
LOCATION:Salle Notre-Dame-de-Lorette Hall\, 1282 Dawson Road\, Lorette\, Manitoba\, R0A 0Y0\, Canada
CATEGORIES:Parish Event
END:VEVENT
END:VCALENDAR