BEGIN:VCALENDAR
VERSION:2.0
PRODID:-// - ECPv6.15.17.1//NONSGML v1.0//EN
CALSCALE:GREGORIAN
METHOD:PUBLISH
X-ORIGINAL-URL:https://notredamedelorette.info
X-WR-CALDESC:Events for 
REFRESH-INTERVAL;VALUE=DURATION:PT1H
X-Robots-Tag:noindex
X-PUBLISHED-TTL:PT1H
BEGIN:VTIMEZONE
TZID:America/New_York
BEGIN:DAYLIGHT
TZOFFSETFROM:-0500
TZOFFSETTO:-0400
TZNAME:EDT
DTSTART:20230312T070000
END:DAYLIGHT
BEGIN:STANDARD
TZOFFSETFROM:-0400
TZOFFSETTO:-0500
TZNAME:EST
DTSTART:20231105T060000
END:STANDARD
BEGIN:DAYLIGHT
TZOFFSETFROM:-0500
TZOFFSETTO:-0400
TZNAME:EDT
DTSTART:20240310T070000
END:DAYLIGHT
BEGIN:STANDARD
TZOFFSETFROM:-0400
TZOFFSETTO:-0500
TZNAME:EST
DTSTART:20241103T060000
END:STANDARD
BEGIN:DAYLIGHT
TZOFFSETFROM:-0500
TZOFFSETTO:-0400
TZNAME:EDT
DTSTART:20250309T070000
END:DAYLIGHT
BEGIN:STANDARD
TZOFFSETFROM:-0400
TZOFFSETTO:-0500
TZNAME:EST
DTSTART:20251102T060000
END:STANDARD
END:VTIMEZONE
BEGIN:VEVENT
DTSTART;TZID=America/New_York:20241027T100000
DTEND;TZID=America/New_York:20241027T130000
DTSTAMP:20260424T194044
CREATED:20240828T194327Z
LAST-MODIFIED:20240828T194327Z
UID:379456-1730023200-1730034000@notredamedelorette.info
SUMMARY:Déjeuner Communion | Communion Breakfast
DESCRIPTION:Communion Breakfast\, sponsored by the Knights of Columbus at the Parish Hall after both masses. The meal is free. Money raised for a good cause to be determined (see parish bulletin) ——————-\nDéjeuner Communion\, commandité par les Chevaliers de Colomb à la salle paroissiale après chacune des deux messes. Le repas est gratuit. Dons prélevé pour une bonne cause (voir bulletin).
URL:https://notredamedelorette.info/event/dejeuner-communion-communion-breakfast-2/2024-10-27/
LOCATION:Salle Notre-Dame-de-Lorette Hall\, 1282 Dawson Road\, Lorette\, Manitoba\, R0A 0Y0\, Canada
CATEGORIES:Parish Event
END:VEVENT
END:VCALENDAR