BEGIN:VCALENDAR
VERSION:2.0
PRODID:-// - ECPv6.15.17.1//NONSGML v1.0//EN
CALSCALE:GREGORIAN
METHOD:PUBLISH
X-ORIGINAL-URL:https://notredamedelorette.info
X-WR-CALDESC:Events for 
REFRESH-INTERVAL;VALUE=DURATION:PT1H
X-Robots-Tag:noindex
X-PUBLISHED-TTL:PT1H
BEGIN:VTIMEZONE
TZID:America/New_York
BEGIN:DAYLIGHT
TZOFFSETFROM:-0500
TZOFFSETTO:-0400
TZNAME:EDT
DTSTART:20250309T070000
END:DAYLIGHT
BEGIN:STANDARD
TZOFFSETFROM:-0400
TZOFFSETTO:-0500
TZNAME:EST
DTSTART:20251102T060000
END:STANDARD
BEGIN:DAYLIGHT
TZOFFSETFROM:-0500
TZOFFSETTO:-0400
TZNAME:EDT
DTSTART:20260308T070000
END:DAYLIGHT
BEGIN:STANDARD
TZOFFSETFROM:-0400
TZOFFSETTO:-0500
TZNAME:EST
DTSTART:20261101T060000
END:STANDARD
BEGIN:DAYLIGHT
TZOFFSETFROM:-0500
TZOFFSETTO:-0400
TZNAME:EDT
DTSTART:20270314T070000
END:DAYLIGHT
BEGIN:STANDARD
TZOFFSETFROM:-0400
TZOFFSETTO:-0500
TZNAME:EST
DTSTART:20271107T060000
END:STANDARD
END:VTIMEZONE
BEGIN:VEVENT
DTSTART;TZID=America/New_York:20260301T090000
DTEND;TZID=America/New_York:20260301T100000
DTSTAMP:20260423T153315
CREATED:20251220T205833Z
LAST-MODIFIED:20260319T183707Z
UID:382531-1772355600-1772359200@notredamedelorette.info
SUMMARY:English Mass 9am
DESCRIPTION:
URL:https://notredamedelorette.info/event/english-mass-9am/2026-03-01/
LOCATION:Église Notre-Dame-de-Lorette Church\, 1282 Dawson Road\, Lorette\, Manitoba\, R0A 0Y0\, Canada
CATEGORIES:Liturgy
END:VEVENT
BEGIN:VEVENT
DTSTART;TZID=America/New_York:20260301T110000
DTEND;TZID=America/New_York:20260301T120000
DTSTAMP:20260423T153315
CREATED:20251220T210141Z
LAST-MODIFIED:20260319T183942Z
UID:382572-1772362800-1772366400@notredamedelorette.info
SUMMARY:Messe en français 11h
DESCRIPTION:
URL:https://notredamedelorette.info/event/messe-en-francais-11h-2/2026-03-01/
LOCATION:Église Notre-Dame-de-Lorette Church\, 1282 Dawson Road\, Lorette\, Manitoba\, R0A 0Y0\, Canada
CATEGORIES:Liturgy
END:VEVENT
BEGIN:VEVENT
DTSTART;TZID=America/New_York:20260305T090000
DTEND;TZID=America/New_York:20260305T093000
DTSTAMP:20260423T153315
CREATED:20260114T202737Z
LAST-MODIFIED:20260131T193436Z
UID:382761-1772701200-1772703000@notredamedelorette.info
SUMMARY:Messe 9h
DESCRIPTION:
URL:https://notredamedelorette.info/event/messe-9h-3/2026-03-05/
LOCATION:Église Notre-Dame-de-Lorette Church\, 1282 Dawson Road\, Lorette\, Manitoba\, R0A 0Y0\, Canada
CATEGORIES:Liturgy
END:VEVENT
BEGIN:VEVENT
DTSTART;TZID=America/New_York:20260307T170000
DTEND;TZID=America/New_York:20260307T180000
DTSTAMP:20260423T153315
CREATED:20251220T205029Z
LAST-MODIFIED:20251220T211708Z
UID:382509-1772902800-1772906400@notredamedelorette.info
SUMMARY:English Mass 5pm
DESCRIPTION:
URL:https://notredamedelorette.info/event/english-mass-5pm-2/2026-03-07/
LOCATION:Église Notre-Dame-de-Lorette Church\, 1282 Dawson Road\, Lorette\, Manitoba\, R0A 0Y0\, Canada
CATEGORIES:Liturgy
END:VEVENT
BEGIN:VEVENT
DTSTART;TZID=America/New_York:20260308T090000
DTEND;TZID=America/New_York:20260308T100000
DTSTAMP:20260423T153315
CREATED:20251220T205833Z
LAST-MODIFIED:20260319T183707Z
UID:382532-1772960400-1772964000@notredamedelorette.info
SUMMARY:English Mass 9am
DESCRIPTION:
URL:https://notredamedelorette.info/event/english-mass-9am/2026-03-08/
LOCATION:Église Notre-Dame-de-Lorette Church\, 1282 Dawson Road\, Lorette\, Manitoba\, R0A 0Y0\, Canada
CATEGORIES:Liturgy
END:VEVENT
BEGIN:VEVENT
DTSTART;TZID=America/New_York:20260308T110000
DTEND;TZID=America/New_York:20260308T120000
DTSTAMP:20260423T153315
CREATED:20251220T210141Z
LAST-MODIFIED:20260319T183942Z
UID:382573-1772967600-1772971200@notredamedelorette.info
SUMMARY:Messe en français 11h
DESCRIPTION:
URL:https://notredamedelorette.info/event/messe-en-francais-11h-2/2026-03-08/
LOCATION:Église Notre-Dame-de-Lorette Church\, 1282 Dawson Road\, Lorette\, Manitoba\, R0A 0Y0\, Canada
CATEGORIES:Liturgy
END:VEVENT
BEGIN:VEVENT
DTSTART;TZID=America/New_York:20260310T183000
DTEND;TZID=America/New_York:20260310T190000
DTSTAMP:20260423T153315
CREATED:20260114T200031Z
LAST-MODIFIED:20260328T175141Z
UID:382721-1773167400-1773169200@notredamedelorette.info
SUMMARY:Messe 18h30
DESCRIPTION:
URL:https://notredamedelorette.info/event/messe-18h30-5/2026-03-10/
LOCATION:Église Notre-Dame-de-Lorette Church\, 1282 Dawson Road\, Lorette\, Manitoba\, R0A 0Y0\, Canada
CATEGORIES:Liturgy
END:VEVENT
BEGIN:VEVENT
DTSTART;TZID=America/New_York:20260311T181500
DTEND;TZID=America/New_York:20260311T184500
DTSTAMP:20260423T153315
CREATED:20260228T041402Z
LAST-MODIFIED:20260228T041402Z
UID:383034-1773252900-1773254700@notredamedelorette.info
SUMMARY:Mass 6:15pm
DESCRIPTION:
URL:https://notredamedelorette.info/event/mass-615pm/
LOCATION:Église Notre-Dame-de-Lorette Church\, 1282 Dawson Road\, Lorette\, Manitoba\, R0A 0Y0\, Canada
CATEGORIES:Liturgy
END:VEVENT
BEGIN:VEVENT
DTSTART;TZID=America/New_York:20260312T090000
DTEND;TZID=America/New_York:20260312T093000
DTSTAMP:20260423T153315
CREATED:20260114T202737Z
LAST-MODIFIED:20260131T193436Z
UID:382762-1773306000-1773307800@notredamedelorette.info
SUMMARY:Messe 9h
DESCRIPTION:
URL:https://notredamedelorette.info/event/messe-9h-3/2026-03-12/
LOCATION:Église Notre-Dame-de-Lorette Church\, 1282 Dawson Road\, Lorette\, Manitoba\, R0A 0Y0\, Canada
CATEGORIES:Liturgy
END:VEVENT
BEGIN:VEVENT
DTSTART;TZID=America/New_York:20260313T083000
DTEND;TZID=America/New_York:20260313T090000
DTSTAMP:20260423T153315
CREATED:20260228T041708Z
LAST-MODIFIED:20260228T041708Z
UID:383038-1773390600-1773392400@notredamedelorette.info
SUMMARY:Mass 8:30am
DESCRIPTION:
URL:https://notredamedelorette.info/event/mass-830am-5/
LOCATION:Église Notre-Dame-de-Lorette Church\, 1282 Dawson Road\, Lorette\, Manitoba\, R0A 0Y0\, Canada
CATEGORIES:Liturgy
END:VEVENT
BEGIN:VEVENT
DTSTART;TZID=America/New_York:20260314T170000
DTEND;TZID=America/New_York:20260314T180000
DTSTAMP:20260423T153315
CREATED:20251220T205029Z
LAST-MODIFIED:20251220T211709Z
UID:382510-1773507600-1773511200@notredamedelorette.info
SUMMARY:English Mass 5pm
DESCRIPTION:
URL:https://notredamedelorette.info/event/english-mass-5pm-2/2026-03-14/
LOCATION:Église Notre-Dame-de-Lorette Church\, 1282 Dawson Road\, Lorette\, Manitoba\, R0A 0Y0\, Canada
CATEGORIES:Liturgy
END:VEVENT
BEGIN:VEVENT
DTSTART;TZID=America/New_York:20260315T090000
DTEND;TZID=America/New_York:20260315T100000
DTSTAMP:20260423T153315
CREATED:20251220T205833Z
LAST-MODIFIED:20251220T205833Z
UID:382533-1773565200-1773568800@notredamedelorette.info
SUMMARY:English Mass 9am
DESCRIPTION:
URL:https://notredamedelorette.info/event/english-mass-9am/2026-03-15/
LOCATION:Église Notre-Dame-de-Lorette Church\, 1282 Dawson Road\, Lorette\, Manitoba\, R0A 0Y0\, Canada
CATEGORIES:Liturgy
END:VEVENT
BEGIN:VEVENT
DTSTART;TZID=America/New_York:20260315T110000
DTEND;TZID=America/New_York:20260315T120000
DTSTAMP:20260423T153315
CREATED:20251220T210141Z
LAST-MODIFIED:20260319T183951Z
UID:382574-1773572400-1773576000@notredamedelorette.info
SUMMARY:Messe en français 11h
DESCRIPTION:
URL:https://notredamedelorette.info/event/messe-en-francais-11h-2/2026-03-15/
LOCATION:Église Notre-Dame-de-Lorette Church\, 1282 Dawson Road\, Lorette\, Manitoba\, R0A 0Y0\, Canada
CATEGORIES:Liturgy
END:VEVENT
BEGIN:VEVENT
DTSTART;TZID=America/New_York:20260317T183000
DTEND;TZID=America/New_York:20260317T190000
DTSTAMP:20260423T153315
CREATED:20260114T200031Z
LAST-MODIFIED:20260328T175143Z
UID:382722-1773772200-1773774000@notredamedelorette.info
SUMMARY:Messe 18h30
DESCRIPTION:
URL:https://notredamedelorette.info/event/messe-18h30-5/2026-03-17/
LOCATION:Église Notre-Dame-de-Lorette Church\, 1282 Dawson Road\, Lorette\, Manitoba\, R0A 0Y0\, Canada
CATEGORIES:Liturgy
END:VEVENT
BEGIN:VEVENT
DTSTART;TZID=America/New_York:20260318T183000
DTEND;TZID=America/New_York:20260318T190000
DTSTAMP:20260423T153315
CREATED:20251007T151539Z
LAST-MODIFIED:20260410T201159Z
UID:382946-1773858600-1773860400@notredamedelorette.info
SUMMARY:Mass 6:30pm
DESCRIPTION:
URL:https://notredamedelorette.info/event/mass-630pm-6/2026-03-18/
LOCATION:Église Notre-Dame-de-Lorette Church\, 1282 Dawson Road\, Lorette\, Manitoba\, R0A 0Y0\, Canada
CATEGORIES:Liturgy
END:VEVENT
BEGIN:VEVENT
DTSTART;TZID=America/New_York:20260319T090000
DTEND;TZID=America/New_York:20260319T093000
DTSTAMP:20260423T153315
CREATED:20260114T202737Z
LAST-MODIFIED:20260131T193436Z
UID:382763-1773910800-1773912600@notredamedelorette.info
SUMMARY:Messe 9h
DESCRIPTION:
URL:https://notredamedelorette.info/event/messe-9h-3/2026-03-19/
LOCATION:Église Notre-Dame-de-Lorette Church\, 1282 Dawson Road\, Lorette\, Manitoba\, R0A 0Y0\, Canada
CATEGORIES:Liturgy
END:VEVENT
BEGIN:VEVENT
DTSTART;TZID=America/New_York:20260320T100000
DTEND;TZID=America/New_York:20260320T103000
DTSTAMP:20260423T153315
CREATED:20260316T193914Z
LAST-MODIFIED:20260316T194823Z
UID:383048-1774000800-1774002600@notredamedelorette.info
SUMMARY:Mass 10am
DESCRIPTION:
URL:https://notredamedelorette.info/event/mass-10am-6/2026-03-20/
LOCATION:Église Notre-Dame-de-Lorette Church\, 1282 Dawson Road\, Lorette\, Manitoba\, R0A 0Y0\, Canada
CATEGORIES:Liturgy
END:VEVENT
BEGIN:VEVENT
DTSTART;TZID=America/New_York:20260321T170000
DTEND;TZID=America/New_York:20260321T180000
DTSTAMP:20260423T153315
CREATED:20251220T205029Z
LAST-MODIFIED:20251220T205029Z
UID:382638-1774112400-1774116000@notredamedelorette.info
SUMMARY:English Mass 5pm
DESCRIPTION:
URL:https://notredamedelorette.info/event/english-mass-5pm-2/2026-03-21/
LOCATION:Église Notre-Dame-de-Lorette Church\, 1282 Dawson Road\, Lorette\, Manitoba\, R0A 0Y0\, Canada
CATEGORIES:Liturgy
END:VEVENT
BEGIN:VEVENT
DTSTART;TZID=America/New_York:20260322T090000
DTEND;TZID=America/New_York:20260322T100000
DTSTAMP:20260423T153315
CREATED:20251220T205833Z
LAST-MODIFIED:20251220T205833Z
UID:382534-1774170000-1774173600@notredamedelorette.info
SUMMARY:English Mass 9am
DESCRIPTION:
URL:https://notredamedelorette.info/event/english-mass-9am/2026-03-22/
LOCATION:Église Notre-Dame-de-Lorette Church\, 1282 Dawson Road\, Lorette\, Manitoba\, R0A 0Y0\, Canada
CATEGORIES:Liturgy
END:VEVENT
BEGIN:VEVENT
DTSTART;TZID=America/New_York:20260322T110000
DTEND;TZID=America/New_York:20260322T120000
DTSTAMP:20260423T153315
CREATED:20251220T210141Z
LAST-MODIFIED:20260319T183951Z
UID:382588-1774177200-1774180800@notredamedelorette.info
SUMMARY:Messe en français 11h
DESCRIPTION:
URL:https://notredamedelorette.info/event/messe-en-francais-11h-2/2026-03-22/
LOCATION:Église Notre-Dame-de-Lorette Church\, 1282 Dawson Road\, Lorette\, Manitoba\, R0A 0Y0\, Canada
CATEGORIES:Liturgy
END:VEVENT
BEGIN:VEVENT
DTSTART;TZID=America/New_York:20260324T183000
DTEND;TZID=America/New_York:20260324T190000
DTSTAMP:20260423T153315
CREATED:20260114T200031Z
LAST-MODIFIED:20260228T041033Z
UID:382723-1774377000-1774378800@notredamedelorette.info
SUMMARY:Messe 18h30
DESCRIPTION:
URL:https://notredamedelorette.info/event/messe-18h30-5/2026-03-24/
LOCATION:Église Notre-Dame-de-Lorette Church\, 1282 Dawson Road\, Lorette\, Manitoba\, R0A 0Y0\, Canada
CATEGORIES:Liturgy
END:VEVENT
BEGIN:VEVENT
DTSTART;TZID=America/New_York:20260325T083000
DTEND;TZID=America/New_York:20260325T090000
DTSTAMP:20260423T153315
CREATED:20260316T200221Z
LAST-MODIFIED:20260316T200221Z
UID:383118-1774427400-1774429200@notredamedelorette.info
SUMMARY:Mass 8:30am
DESCRIPTION:
URL:https://notredamedelorette.info/event/mass-830am-6/
LOCATION:Église Notre-Dame-de-Lorette Church\, 1282 Dawson Road\, Lorette\, Manitoba\, R0A 0Y0\, Canada
CATEGORIES:Liturgy
END:VEVENT
BEGIN:VEVENT
DTSTART;TZID=America/New_York:20260326T090000
DTEND;TZID=America/New_York:20260326T093000
DTSTAMP:20260423T153315
CREATED:20260114T202737Z
LAST-MODIFIED:20260131T193441Z
UID:382829-1774515600-1774517400@notredamedelorette.info
SUMMARY:Messe 9h
DESCRIPTION:
URL:https://notredamedelorette.info/event/messe-9h-3/2026-03-26/
LOCATION:Église Notre-Dame-de-Lorette Church\, 1282 Dawson Road\, Lorette\, Manitoba\, R0A 0Y0\, Canada
CATEGORIES:Liturgy
END:VEVENT
BEGIN:VEVENT
DTSTART;TZID=America/New_York:20260327T100000
DTEND;TZID=America/New_York:20260327T103000
DTSTAMP:20260423T153315
CREATED:20260316T193914Z
LAST-MODIFIED:20260316T194823Z
UID:383091-1774605600-1774607400@notredamedelorette.info
SUMMARY:Mass 10am
DESCRIPTION:
URL:https://notredamedelorette.info/event/mass-10am-6/2026-03-27/
LOCATION:Église Notre-Dame-de-Lorette Church\, 1282 Dawson Road\, Lorette\, Manitoba\, R0A 0Y0\, Canada
CATEGORIES:Liturgy
END:VEVENT
BEGIN:VEVENT
DTSTART;TZID=America/New_York:20260328T170000
DTEND;TZID=America/New_York:20260328T180000
DTSTAMP:20260423T153315
CREATED:20251220T205029Z
LAST-MODIFIED:20251220T205029Z
UID:382639-1774717200-1774720800@notredamedelorette.info
SUMMARY:English Mass 5pm
DESCRIPTION:
URL:https://notredamedelorette.info/event/english-mass-5pm-2/2026-03-28/
LOCATION:Église Notre-Dame-de-Lorette Church\, 1282 Dawson Road\, Lorette\, Manitoba\, R0A 0Y0\, Canada
CATEGORIES:Liturgy
END:VEVENT
BEGIN:VEVENT
DTSTART;TZID=America/New_York:20260329T084500
DTEND;TZID=America/New_York:20260329T100000
DTSTAMP:20260423T153315
CREATED:20240227T165359Z
LAST-MODIFIED:20260319T183833Z
UID:367331-1774773900-1774778400@notredamedelorette.info
SUMMARY:Palm Sunday Mass 8:45am begins @ parish hall
DESCRIPTION:Mass will begin at the parish hall and process to the church
URL:https://notredamedelorette.info/event/palm-sunday-mass-845am-begins-hall/
LOCATION:Église Notre-Dame-de-Lorette Church\, 1282 Dawson Road\, Lorette\, Manitoba\, R0A 0Y0\, Canada
CATEGORIES:Liturgy
END:VEVENT
BEGIN:VEVENT
DTSTART;TZID=America/New_York:20260329T110000
DTEND;TZID=America/New_York:20260329T123000
DTSTAMP:20260423T153315
CREATED:20240227T165700Z
LAST-MODIFIED:20260319T184040Z
UID:367339-1774782000-1774787400@notredamedelorette.info
SUMMARY:Dimanche des Rameaux messe 11h débute à la salle paroissiale
DESCRIPTION:La messe débutera à la salle paroissiale ensuite une procession jusqu’à l’église.
URL:https://notredamedelorette.info/event/dimanche-des-rameaux-messe-11h-debute-a-la-salle/
LOCATION:Église Notre-Dame-de-Lorette Church\, 1282 Dawson Road\, Lorette\, Manitoba\, R0A 0Y0\, Canada
CATEGORIES:Liturgy
END:VEVENT
BEGIN:VEVENT
DTSTART;TZID=America/New_York:20260331T183000
DTEND;TZID=America/New_York:20260331T203000
DTSTAMP:20260423T153315
CREATED:20260328T175311Z
LAST-MODIFIED:20260328T175311Z
UID:383224-1774981800-1774989000@notredamedelorette.info
SUMMARY:Chrism Mass - Cathedral - Messe chrismale
DESCRIPTION:
URL:https://notredamedelorette.info/event/chrism-mass-cathedral-messe-chrismale/
LOCATION:Cathédrale St Boniface Cathedral\, 180 ave de la Cathedrale\, Winnipeg\, Mb\, R2H0H7\, Canada
CATEGORIES:Liturgy
END:VEVENT
END:VCALENDAR